Workbook

Sheet Finansiniai duomenys
R1: =COUNTA(R2:R229) -> 226 | S1: =COUNTA(S2:S229) -> 226 | T1: =COUNTA(T2:T229) -> 226
D2: PATVIRTINTA VšĮ Valdymo koordinavimo centro direktoriaus 2024 m. balandžio 10 d. įsakymu Nr. IV-7 | Q2: 1 | R2: UAB „Akmenės vandenys“ | S2: 253255950 | T2: Uždaroji akcinė bendrovė (UAB) | U2: Vandentvarka | V2: Akmenės rajono savivaldybė
Q3: 2 | R3: UAB „Naujosios Akmenės komunalininkas“ | S3: 152903578 | T3: Uždaroji akcinė bendrovė (UAB) | U3: Kita | V3: Akmenės rajono savivaldybė
Q4: 3 | R4: UAB Naujosios Akmenės autobusų parkas | S4: 152968145 | T4: Uždaroji akcinė bendrovė (UAB) | U4: Viešasis transportas | V4: Akmenės rajono savivaldybė
Q5: 4 | R5: UAB „Dzūkijos vandenys“ | S5: 149566841 | T5: Uždaroji akcinė bendrovė (UAB) | U5: Vandentvarka | V5: Alytaus miesto savivaldybė
B6: Viešinamos informacijos apie savivaldybių valdomų įmonių ir jų dukterinių bendrovių veiklą ir rezultatus forma | Q6: 5 | R6: UAB „Alytaus šilumos tinklai“ | S6: 149947714 | T6: Uždaroji akcinė bendrovė (UAB) | U6: Šilumos tinklai | V6: Alytaus miesto savivaldybė
Q7: 6 | R7: UAB „Alytaus butų ūkis“ | S7: 149951417 | T7: Uždaroji akcinė bendrovė (UAB) | U7: Šilumos tinklai | V7: Alytaus miesto savivaldybė
B8: Įmonės pavadinimas | C8: UAB „Vilniaus vystymo kompanija“ | Q8: 7 | R8: UAB Alytaus regiono atliekų tvarkymo centras | S8: 250135860 | T8: Uždaroji akcinė bendrovė (UAB) | U8: RATC | V8: Alytaus miesto savivaldybė
B9: Teisinė forma | C9: =IFERROR(VLOOKUP(C8,$R$1:$T$236,3,FALSE),"") -> Uždaroji akcinė bendrovė (UAB) | H9: Akcinė bendrovė (AB) | L9: reorganizuojamas | Q9: 8 | R9: SĮ „Simno komunalininkas“ | S9: 153720195 | T9: Savivaldybės įmonė (SĮ) | U9: Kita | V9: Alytaus rajono savivaldybė
B10: Įmonės kodas | C10: =IFERROR(VLOOKUP(C8,$R$2:$S$236,2,FALSE),"") -> 120750163 | H10: Uždaroji akcinė bendrovė (UAB) | L10: dalyvaujantis reorganizavime | Q10: 9 | R10: UAB „Anykščių vandenys“ | S10: 154138664 | T10: Uždaroji akcinė bendrovė (UAB) | U10: Vandentvarka | V10: Anykščių rajono savivaldybė
B11: Sektorius | C11: =IFERROR(VLOOKUP(C8,$R$2:$U$236,4,FALSE),"") -> Kita | L11: restruktūrizuojamas | Q11: 10 | R11: UAB Anykščių komunalinis ūkis | S11: 154111083 | T11: Uždaroji akcinė bendrovė (UAB) | U11: Kita | V11: Anykščių rajono savivaldybė
B12: Įmonės direktorius (generalinis direktorius) | C12: Laura Joffė | H12: Komunalinės paslaugos: vanduo (nurodyti laukelyje žemiau, ar įmonė tik nuomoja infrastruktūrą, ar pati teikia paslaugas galutiniams vartotojams) | L12: bankrutuojantis | Q12: 11 | R12: UAB „Anykščių šiluma“ | S12: 154112751 | T12: Uždaroji akcinė bendrovė (UAB) | U12: Šilumos tinklai | V12: Anykščių rajono savivaldybė
B13: Įmonės vyr. finansininkas (vyr. buhalteris) | C13: Odeta Kovaliova | H13: Komunalinės paslaugos: šilumos tinklai (nurodyti laukelyje žemiau, ar įmonė tik nuomoja infrastruktūrą, ar pati teikia paslaugas galutiniams vartotojams) | Q13: 12 | R13: UAB „Birštono vandentiekis“ | S13: 152812840 | T13: Uždaroji akcinė bendrovė (UAB) | U13: Vandentvarka | V13: Birštono savivaldybė
H14: Butų ūkiai | L14: likviduojamas | Q14: 13 | R14: UAB „Birštono šiluma“ | S14: 152840633 | T14: Uždaroji akcinė bendrovė (UAB) | U14: Šilumos tinklai | V14: Birštono savivaldybė
C15: Lentelės užpildymo dieną | H15: Komunalinės paslaugos: kita (nurodykite laukelyje žemiau) | L15: inicijuojantis Europos bendrovės steigimą jungimo būdu | Q15: 14 | R15: AB Birštono sanatorija „Versmė“ | S15: 152814478 | T15: Akcinė bendrovė (AB) | U15: Kita | V15: Birštono savivaldybė
B16: Akcininkų sąrašas | C16: 5 didžiausi akcininkai | E16: Valdoma akcijų dalis | H16: Atliekos ir šalinimo paslaugos | L16: inicijuojantis Europos bendrovės steigimą valdymo (holdingo) būdu | Q16: 15 | R16: SĮ Biržų agrolaboratorija | S16: 154724428 | T16: Savivaldybės įmonė (SĮ) | U16: Kita | V16: Biržų rajono savivaldybė
B17: Akcininkas Nr.1 | C17: Vilniaus miesto savivaldybės administracija | E17: 1 | H17: Viešasis transportas | L17: Europos bendrovė, kurios buveinė perkeliama | Q17: 16 | R17: UAB Biržų autobusų parkas | S17: 154742789 | T17: Uždaroji akcinė bendrovė (UAB) | U17: Viešasis transportas | V17: Biržų rajono savivaldybė
B18: Akcininkas Nr.2 | H18: Kitos transporto paslaugos | L18: dalyvaujantis atskyrime | Q18: 17 | R18: UAB „Biržų šilumos tinklai“ | S18: 154866655 | T18: Uždaroji akcinė bendrovė (UAB) | U18: Šilumos tinklai | V18: Biržų rajono savivaldybė
B19: Akcininkas Nr.3 | H19: Statyba ir architektūra | L19: - | Q19: 18 | R19: UAB „Biržų vandenys“ | S19: 154850665 | T19: Uždaroji akcinė bendrovė (UAB) | U19: Vandentvarka | V19: Biržų rajono savivaldybė
B20: Akcininkas Nr.4 | H20: Sveikatos priežiūros paslaugos | Q20: 19 | R20: AB „Druskininkų šilumos tinklai“ | S20: 152003098 | T20: Akcinė bendrovė (AB) | U20: Šilumos tinklai | V20: Druskininkų savivaldybė
B21: Akcininkas Nr.5 | H21: Leidyba | Q21: 20 | R21: UAB „Druskininkų vandenys“ | S21: 301500997 | T21: Uždaroji akcinė bendrovė (UAB) | U21: Vandentvarka | V21: Druskininkų savivaldybė
B22: Kiti akcininkai | C22: Kitų akcininkų valdoma dalis | E22: =100%-SUM(E17:E21) -> 0 | H22: Kita (nurodyti laukelyje žemiau pagrindines veiklos sritis) | Q22: 21 | R22: UAB „Druskininkų sveikatinimo ir poilsio centras AQUA“ | S22: 300076944 | T22: Uždaroji akcinė bendrovė (UAB) | U22: Kita | V22: Druskininkų savivaldybė
Q23: 22 | R23: UAB „Druskininkų butų ūkis“ | S23: 152007157 | T23: Uždaroji akcinė bendrovė (UAB) | U23: Kita | V23: Druskininkų savivaldybė
B24: Savivaldybei priklausanti dalis (%) | Q24: 23 | R24: UAB Elektrėnų autobusų parkas | S24: 305802733 | T24: Uždaroji akcinė bendrovė (UAB) | U24: Viešasis transportas | V24: Elektrėnų savivaldybė
B25: Turtines ir neturtines teisės ir pareigas įmonėje / bendrovėje įgyvendinanti institucija (arba didžiausią akcijų dalį valdanti institucija) | Q25: 24 | R25: UAB „Elektrėnų komunalinis ūkis“ | S25: 181613656 | T25: Uždaroji akcinė bendrovė (UAB) | U25: Kita | V25: Elektrėnų savivaldybė
Q26: 25 | R26: UAB „Didžiasalio komunalinės paslaugos“ | S26: 155513971 | T26: Uždaroji akcinė bendrovė (UAB) | U26: Kita | V26: Ignalinos rajono savivaldybė
B27: Ar bendrovė turi kontroliuojamų įmonių? (pildo tik akcinės bendrovės ir uždarosios akcinės bendrovės) | C27: Ne | Q27: 26 | R27: UAB Ignalinos butų ūkis | S27: 255512870 | T27: Uždaroji akcinė bendrovė (UAB) | U27: Kita | V27: Ignalinos rajono savivaldybė
B28: Nurodykite bendrovės kontroliuojamas įmones (pildoma, jei bendrovė turi kontroliuojamų įmonių) | Q28: 27 | R28: UAB Ignalinos šilumos tinklai | S28: 155634880 | T28: Uždaroji akcinė bendrovė (UAB) | U28: Šilumos tinklai | V28: Ignalinos rajono savivaldybė
Q29: 28 | R29: SĮ „Kompata“ | S29: 155402647 | T29: Savivaldybės įmonė (SĮ) | U29: Kita | V29: Ignalinos rajono savivaldybė
C30: LENTELĖSE DUOMENYS PATEIKIAMI TŪKSTANČIAIS EURŲ (JEI NENURODYTA KITAIP), VIENO SKAIČIAUS PO KABLELIO TIKSLUMU | Q30: 29 | R30: UAB „Jonavos paslaugos“ | S30: 156916523 | T30: Uždaroji akcinė bendrovė (UAB) | U30: Kita | V30: Jonavos rajono savivaldybė
C31: Kur įmanoma, duomenys pateikiami augimo (agregavimo) principu | Q31: 30 | R31: UAB „Jonavos vandenys“ | S31: 256564350 | T31: Uždaroji akcinė bendrovė (UAB) | U31: Vandentvarka | V31: Jonavos rajono savivaldybė
C32: Jei įmonė turi kontroliuojamų įmonių, pateikiami konsoliduoti įmonių grupės duomenys | Q32: 31 | R32: UAB „Jonavos autobusai“ | S32: 156576661 | T32: Uždaroji akcinė bendrovė (UAB) | U32: Viešasis transportas | V32: Jonavos rajono savivaldybė
C33: Lentelėse turi būti pateikiami audituoti metiniai duomenys | Q33: 32 | R33: UAB „Jonavos šilumos tinklai“ | S33: 156737189 | T33: Uždaroji akcinė bendrovė (UAB) | U33: Šilumos tinklai | V33: Jonavos rajono savivaldybė
B34: Pelno (nuostolių) ataskaita | C34: Praėjęs ataskaitinis laikotarpis 2022 m. | E34: Ataskaitinis laikotarpis 2023 m. | Q34: 33 | R34: UAB „Jonavos knyga“ | S34: 156595252 | T34: Uždaroji akcinė bendrovė (UAB) | U34: Kita | V34: Jonavos rajono savivaldybė
B35: Pardavimo pajamos | C35: 6029.3 | E35: 8278.4 | Q35: 34 | R35: UAB „Joniškio vandenys“ | S35: 157531950 | T35: Uždaroji akcinė bendrovė (UAB) | U35: Vandentvarka | V35: Joniškio rajono savivaldybė
B36: Pardavimo savikaina | C36: 4320.7 | E36: 3918.8 | Q36: 35 | R36: UAB „Joniškio butų ūkis“ | S36: 157521319 | T36: Uždaroji akcinė bendrovė (UAB) | U36: Kita | V36: Joniškio rajono savivaldybė
B37: Bendrasis pelnas (nuostoliai) | C37: =+C35-C36 -> 1708.6 | E37: =+E35-E36 -> 4359.6 | Q37: 36 | R37: UAB „Joniškio autobusų parkas“ | S37: 157536164 | T37: Uždaroji akcinė bendrovė (UAB) | U37: Viešasis transportas | V37: Joniškio rajono savivaldybė
B38: Pardavimo sąnaudos | C38: 0 | Q38: 37 | R38: UAB „Jurbarko komunalininkas“ | S38: 258325370 | T38: Uždaroji akcinė bendrovė (UAB) | U38: Kita | V38: Jurbarko rajono savivaldybė
B39: Bendrosios ir administracinės sąnaudos | C39: 2306.7 | E39: 3685.5 | Q39: 38 | R39: UAB „Jurbarko autobusų parkas“ | S39: 158161361 | T39: Uždaroji akcinė bendrovė (UAB) | U39: Viešasis transportas | V39: Jurbarko rajono savivaldybė
B40: Veiklos pelnas (nuostoliai) | C40: =+C37-C38-C39 -> -598.1 | E40: =+E37-E38-E39 -> 674.1 | Q40: 39 | R40: UAB „Jurbarko vandenys“ | S40: 158275315 | T40: Uždaroji akcinė bendrovė (UAB) | U40: Vandentvarka | V40: Jurbarko rajono savivaldybė
...

Sheet Finansiniai duomenys(2015-2016)
D3: Viešinamos informacijos apie savivaldybių valdomų įmonių veiklą ir rezultatus formos
D4: 1 priedas
B6: Informacija apie savivaldybių valdomų įmonių veiklą ir rezultatus 2015 - 2016 metais
B9: Įmonės pavadinimas | C9: ='Finansiniai duomenys'!C8 -> UAB „Vilniaus vystymo kompanija“
B10: Teisinė forma | C10: ='Finansiniai duomenys'!C9 -> Uždaroji akcinė bendrovė (UAB)
C11: Akcinė bendrovė (AB)
C12: Uždaroji akcinė bendrovė (UAB)
C13: Savivaldybės įmonė (SĮ)
B14: Įmonės teisinis statusas | C14: ='Finansiniai duomenys'!#REF! -> #REF!
C15: reorganizuojamas
C16: dalyvaujantis reorganizavime
C17: pertvarkomas
C18: restruktūrizuojamas
C19: bankrutuojantis
C20: bankrutavęs
C21: likviduojamas
C22: inicijuojantis Europos bendrovės steigimą jungimo būdu
C23: inicijuojantis Europos bendrovės steigimą valdymo (holdingo) būdu
C24: Europos bendrovė, kurios buveinė perkeliama
C25: dalyvaujantis atskyrime
C26: -
B27: Įmonės kodas | C27: ='Finansiniai duomenys'!C10 -> 120750163
B28: Įmonės įsteigimo data | C28: ='Finansiniai duomenys'!#REF! -> #REF!
B29: Sektorius, kuriame veikia įmonė | C29: ='Finansiniai duomenys'!#REF! -> #REF! | H29: Komunalinės paslaugos: vanduo (nurodyti laukelyje žemiau, ar įmonė tik nuomoja infrastruktūrą, ar pati teikia paslaugas galutiniams vartotojams)
C30: ='Finansiniai duomenys'!#REF! -> #REF! | H30: Komunalinės paslaugos: šilumos tinklai (nurodyti laukelyje žemiau, ar įmonė tik nuomoja infrastruktūrą, ar pati teikia paslaugas galutiniams vartotojams)
B31: Įmonės direktorius (generalinis direktorius) | C31: ='Finansiniai duomenys'!C12 -> Laura Joffė | H31: Butų ūkiai
B32: Įmonės vyr. finansininkas (vyr. buhalteris) | C32: ='Finansiniai duomenys'!C13 -> Odeta Kovaliova | H32: Komunalinės paslaugos: kita
H33: Atliekos ir šalinimo paslaugos
C34: Lentelės užpildymo dieną | H34: Viešasis transportas
B35: Akcininkų sąrašas | C35: 5 didžiausi akcininkai | E35: Valdoma akcijų dalis | H35: Kitos transporto paslaugos
B36: Akcininkas Nr.1 | C36: ='Finansiniai duomenys'!C17 -> Vilniaus miesto savivaldybės administracija | E36: ='Finansiniai duomenys'!E17 -> 1 | H36: Statyba ir architektūra
B37: Akcininkas Nr.2 | C37: ='Finansiniai duomenys'!C18 -> 0 | E37: ='Finansiniai duomenys'!E18 -> 0 | H37: Sveikatos priežiūros paslaugos
B38: Akcininkas Nr.3 | C38: ='Finansiniai duomenys'!#REF! -> #REF! | E38: ='Finansiniai duomenys'!#REF! -> #REF! | H38: Leidyba
B39: Akcininkas Nr.4 | C39: ='Finansiniai duomenys'!#REF! -> #REF! | E39: ='Finansiniai duomenys'!#REF! -> #REF! | H39: Kita (nurodyti laukelyje žemiau pagrindines veiklos sritis)
B40: Akcininkas Nr.5 | C40: ='Finansiniai duomenys'!#REF! -> #REF! | E40: ='Finansiniai duomenys'!#REF! -> #REF!
B41: Kiti akcininkai | C41: Kitų akcininkų valdoma dalis | E41: =100%-SUM(E36:E40) -> #REF!
B43: Savivaldybei priklausanti dalis (%) | C43: ='Finansiniai duomenys'!C24 -> 0
B44: Turtines ir neturtines teisės ir pareigas įmonėje/bendrovėje įgyvendinanti institucija (arba didžiausią akcijų dalį valdanti institucija) | C44: ='Finansiniai duomenys'!C25 -> 0
B46: Ar bendrovė turi kontroliuojamų įmonių? (pildo tik akcinės bendrovės ir uždarosios akcinės bendrovės) | C46: ='Finansiniai duomenys'!#REF! -> #REF!
B47: Nurodykite bendrovės kontroliuojamas įmones (pildoma, jei bendrovė turi kontroliuojamų įmonių) | C47: ='Finansiniai duomenys'!#REF! -> #REF!
...
