Workbook

Sheet Finansiniai duomenys
R1: =COUNTA(R2:R229) -> 226 | S1: =COUNTA(S2:S229) -> 226 | T1: =COUNTA(T2:T229) -> 226
D2: PATVIRTINTA VšĮ Valdymo koordinavimo centro direktoriaus 2024 m. balandžio 10 d. įsakymu Nr. IV-7 | Q2: 1 | R2: UAB „Akmenės vandenys“ | S2: 253255950 | T2: Uždaroji akcinė bendrovė (UAB) | U2: Vandentvarka | V2: Akmenės rajono savivaldybė
Q3: 2 | R3: UAB „Naujosios Akmenės komunalininkas“ | S3: 152903578 | T3: Uždaroji akcinė bendrovė (UAB) | U3: Kita | V3: Akmenės rajono savivaldybė
Q4: 3 | R4: UAB Naujosios Akmenės autobusų parkas | S4: 152968145 | T4: Uždaroji akcinė bendrovė (UAB) | U4: Viešasis transportas | V4: Akmenės rajono savivaldybė
Q5: 4 | R5: UAB „Dzūkijos vandenys“ | S5: 149566841 | T5: Uždaroji akcinė bendrovė (UAB) | U5: Vandentvarka | V5: Alytaus miesto savivaldybė
B6: Viešinamos informacijos apie savivaldybių valdomų įmonių ir jų dukterinių bendrovių veiklą ir rezultatus forma | Q6: 5 | R6: UAB „Alytaus šilumos tinklai“ | S6: 149947714 | T6: Uždaroji akcinė bendrovė (UAB) | U6: Šilumos tinklai | V6: Alytaus miesto savivaldybė
Q7: 6 | R7: UAB „Alytaus butų ūkis“ | S7: 149951417 | T7: Uždaroji akcinė bendrovė (UAB) | U7: Šilumos tinklai | V7: Alytaus miesto savivaldybė
B8: Įmonės pavadinimas | C8: UAB „Vilniaus vystymo kompanija“ | Q8: 7 | R8: UAB Alytaus regiono atliekų tvarkymo centras | S8: 250135860 | T8: Uždaroji akcinė bendrovė (UAB) | U8: RATC | V8: Alytaus miesto savivaldybė
B9: Teisinė forma | C9: =IFERROR(VLOOKUP(C8,$R$1:$T$236,3,FALSE),"") -> Uždaroji akcinė bendrovė (UAB) | H9: Akcinė bendrovė (AB) | L9: reorganizuojamas | Q9: 8 | R9: SĮ „Simno komunalininkas“ | S9: 153720195 | T9: Savivaldybės įmonė (SĮ) | U9: Kita | V9: Alytaus rajono savivaldybė
B10: Įmonės kodas | C10: =IFERROR(VLOOKUP(C8,$R$2:$S$236,2,FALSE),"") -> 120750163 | H10: Uždaroji akcinė bendrovė (UAB) | L10: dalyvaujantis reorganizavime | Q10: 9 | R10: UAB „Anykščių vandenys“ | S10: 154138664 | T10: Uždaroji akcinė bendrovė (UAB) | U10: Vandentvarka | V10: Anykščių rajono savivaldybė
B11: Sektorius | C11: =IFERROR(VLOOKUP(C8,$R$2:$U$236,4,FALSE),"") -> Kita | L11: restruktūrizuojamas | Q11: 10 | R11: UAB Anykščių komunalinis ūkis | S11: 154111083 | T11: Uždaroji akcinė bendrovė (UAB) | U11: Kita | V11: Anykščių rajono savivaldybė
B12: Įmonės direktorius (generalinis direktorius) | C12: Laura Joffė | H12: Komunalinės paslaugos: vanduo (nurodyti laukelyje žemiau, ar įmonė tik nuomoja infrastruktūrą, ar pati teikia paslaugas galutiniams vartotojams) | L12: bankrutuojantis | Q12: 11 | R12: UAB „Anykščių šiluma“ | S12: 154112751 | T12: Uždaroji akcinė bendrovė (UAB) | U12: Šilumos tinklai | V12: Anykščių rajono savivaldybė
B13: Įmonės vyr. finansininkas (vyr. buhalteris) | C13: Odeta Kovaliova | H13: Komunalinės paslaugos: šilumos tinklai (nurodyti laukelyje žemiau, ar įmonė tik nuomoja infrastruktūrą, ar pati teikia paslaugas galutiniams vartotojams) | Q13: 12 | R13: UAB „Birštono vandentiekis“ | S13: 152812840 | T13: Uždaroji akcinė bendrovė (UAB) | U13: Vandentvarka | V13: Birštono savivaldybė
H14: Butų ūkiai | L14: likviduojamas | Q14: 13 | R14: UAB „Birštono šiluma“ | S14: 152840633 | T14: Uždaroji akcinė bendrovė (UAB) | U14: Šilumos tinklai | V14: Birštono savivaldybė
C15: Lentelės užpildymo dieną | H15: Komunalinės paslaugos: kita (nurodykite laukelyje žemiau) | L15: inicijuojantis Europos bendrovės steigimą jungimo būdu | Q15: 14 | R15: AB Birštono sanatorija „Versmė“ | S15: 152814478 | T15: Akcinė bendrovė (AB) | U15: Kita | V15: Birštono savivaldybė
B16: Akcininkų sąrašas | C16: 5 didžiausi akcininkai | E16: Valdoma akcijų dalis | H16: Atliekos ir šalinimo paslaugos | L16: inicijuojantis Europos bendrovės steigimą valdymo (holdingo) būdu | Q16: 15 | R16: SĮ Biržų agrolaboratorija | S16: 154724428 | T16: Savivaldybės įmonė (SĮ) | U16: Kita | V16: Biržų rajono savivaldybė
B17: Akcininkas Nr.1 | C17: Vilniaus miesto savivaldybės administracija | E17: 1 | H17: Viešasis transportas | L17: Europos bendrovė, kurios buveinė perkeliama | Q17: 16 | R17: UAB Biržų autobusų parkas | S17: 154742789 | T17: Uždaroji akcinė bendrovė (UAB) | U17: Viešasis transportas | V17: Biržų rajono savivaldybė
B18: Akcininkas Nr.2 | H18: Kitos transporto paslaugos | L18: dalyvaujantis atskyrime | Q18: 17 | R18: UAB „Biržų šilumos tinklai“ | S18: 154866655 | T18: Uždaroji akcinė bendrovė (UAB) | U18: Šilumos tinklai | V18: Biržų rajono savivaldybė
B19: Akcininkas Nr.3 | H19: Statyba ir architektūra | L19: - | Q19: 18 | R19: UAB „Biržų vandenys“ | S19: 154850665 | T19: Uždaroji akcinė bendrovė (UAB) | U19: Vandentvarka | V19: Biržų rajono savivaldybė
B20: Akcininkas Nr.4 | H20: Sveikatos priežiūros paslaugos | Q20: 19 | R20: AB „Druskininkų šilumos tinklai“ | S20: 152003098 | T20: Akcinė bendrovė (AB) | U20: Šilumos tinklai | V20: Druskininkų savivaldybė
B21: Akcininkas Nr.5 | H21: Leidyba | Q21: 20 | R21: UAB „Druskininkų vandenys“ | S21: 301500997 | T21: Uždaroji akcinė bendrovė (UAB) | U21: Vandentvarka | V21: Druskininkų savivaldybė
B22: Kiti akcininkai | C22: Kitų akcininkų valdoma dalis | E22: =100%-SUM(E17:E21) -> 0 | H22: Kita (nurodyti laukelyje žemiau pagrindines veiklos sritis) | Q22: 21 | R22: UAB „Druskininkų sveikatinimo ir poilsio centras AQUA“ | S22: 300076944 | T22: Uždaroji akcinė bendrovė (UAB) | U22: Kita | V22: Druskininkų savivaldybė
Q23: 22 | R23: UAB „Druskininkų butų ūkis“ | S23: 152007157 | T23: Uždaroji akcinė bendrovė (UAB) | U23: Kita | V23: Druskininkų savivaldybė
B24: Savivaldybei priklausanti dalis (%) | Q24: 23 | R24: UAB Elektrėnų autobusų parkas | S24: 305802733 | T24: Uždaroji akcinė bendrovė (UAB) | U24: Viešasis transportas | V24: Elektrėnų savivaldybė
B25: Turtines ir neturtines teisės ir pareigas įmonėje / bendrovėje įgyvendinanti institucija (arba didžiausią akcijų dalį valdanti institucija) | Q25: 24 | R25: UAB „Elektrėnų komunalinis ūkis“ | S25: 181613656 | T25: Uždaroji akcinė bendrovė (UAB) | U25: Kita | V25: Elektrėnų savivaldybė
Q26: 25 | R26: UAB „Didžiasalio komunalinės paslaugos“ | S26: 155513971 | T26: Uždaroji akcinė bendrovė (UAB) | U26: Kita | V26: Ignalinos rajono savivaldybė
B27: Ar bendrovė turi kontroliuojamų įmonių? (pildo tik akcinės bendrovės ir uždarosios akcinės bendrovės) | C27: Ne | Q27: 26 | R27: UAB Ignalinos butų ūkis | S27: 255512870 | T27: Uždaroji akcinė bendrovė (UAB) | U27: Kita | V27: Ignalinos rajono savivaldybė
B28: Nurodykite bendrovės kontroliuojamas įmones (pildoma, jei bendrovė turi kontroliuojamų įmonių) | Q28: 27 | R28: UAB Ignalinos šilumos tinklai | S28: 155634880 | T28: Uždaroji akcinė bendrovė (UAB) | U28: Šilumos tinklai | V28: Ignalinos rajono savivaldybė
Q29: 28 | R29: SĮ „Kompata“ | S29: 155402647 | T29: Savivaldybės įmonė (SĮ) | U29: Kita | V29: Ignalinos rajono savivaldybė
C30: LENTELĖSE DUOMENYS PATEIKIAMI TŪKSTANČIAIS EURŲ (JEI NENURODYTA KITAIP), VIENO SKAIČIAUS PO KABLELIO TIKSLUMU | Q30: 29 | R30: UAB „Jonavos paslaugos“ | S30: 156916523 | T30: Uždaroji akcinė bendrovė (UAB) | U30: Kita | V30: Jonavos rajono savivaldybė
C31: Kur įmanoma, duomenys pateikiami augimo (agregavimo) principu | Q31: 30 | R31: UAB „Jonavos vandenys“ | S31: 256564350 | T31: Uždaroji akcinė bendrovė (UAB) | U31: Vandentvarka | V31: Jonavos rajono savivaldybė
C32: Jei įmonė turi kontroliuojamų įmonių, pateikiami konsoliduoti įmonių grupės duomenys | Q32: 31 | R32: UAB „Jonavos autobusai“ | S32: 156576661 | T32: Uždaroji akcinė bendrovė (UAB) | U32: Viešasis transportas | V32: Jonavos rajono savivaldybė
C33: Lentelėse turi būti pateikiami audituoti metiniai duomenys | Q33: 32 | R33: UAB „Jonavos šilumos tinklai“ | S33: 156737189 | T33: Uždaroji akcinė bendrovė (UAB) | U33: Šilumos tinklai | V33: Jonavos rajono savivaldybė
B34: Pelno (nuostolių) ataskaita | C34: Praėjęs ataskaitinis laikotarpis 2022 m. | E34: Ataskaitinis laikotarpis 2023 m. | Q34: 33 | R34: UAB „Jonavos knyga“ | S34: 156595252 | T34: Uždaroji akcinė bendrovė (UAB) | U34: Kita | V34: Jonavos rajono savivaldybė
B35: Pardavimo pajamos | C35: 6029.3 | E35: 8278.4 | Q35: 34 | R35: UAB „Joniškio vandenys“ | S35: 157531950 | T35: Uždaroji akcinė bendrovė (UAB) | U35: Vandentvarka | V35: Joniškio rajono savivaldybė
B36: Pardavimo savikaina | C36: 4320.7 | E36: 3918.8 | Q36: 35 | R36: UAB „Joniškio butų ūkis“ | S36: 157521319 | T36: Uždaroji akcinė bendrovė (UAB) | U36: Kita | V36: Joniškio rajono savivaldybė
B37: Bendrasis pelnas (nuostoliai) | C37: =+C35-C36 -> 1708.6 | E37: =+E35-E36 -> 4359.6 | Q37: 36 | R37: UAB „Joniškio autobusų parkas“ | S37: 157536164 | T37: Uždaroji akcinė bendrovė (UAB) | U37: Viešasis transportas | V37: Joniškio rajono savivaldybė
B38: Pardavimo sąnaudos | C38: 0 | Q38: 37 | R38: UAB „Jurbarko komunalininkas“ | S38: 258325370 | T38: Uždaroji akcinė bendrovė (UAB) | U38: Kita | V38: Jurbarko rajono savivaldybė
B39: Bendrosios ir administracinės sąnaudos | C39: 2306.7 | E39: 3685.5 | Q39: 38 | R39: UAB „Jurbarko autobusų parkas“ | S39: 158161361 | T39: Uždaroji akcinė bendrovė (UAB) | U39: Viešasis transportas | V39: Jurbarko rajono savivaldybė
B40: Veiklos pelnas (nuostoliai) | C40: =+C37-C38-C39 -> -598.1 | E40: =+E37-E38-E39 -> 674.1 | Q40: 39 | R40: UAB „Jurbarko vandenys“ | S40: 158275315 | T40: Uždaroji akcinė bendrovė (UAB) | U40: Vandentvarka | V40: Jurbarko rajono savivaldybė
B41: Dotacijos, susijusios su pajamomis | C41: 0 | E41: 0 | Q41: 40 | R41: SĮ „Jurbarko planas“ | S41: 158737526 | T41: Savivaldybės įmonė (SĮ) | U41: Kita | V41: Jurbarko rajono savivaldybė
B42: Kitos veiklos rezultatai | C42: 19.8 | E42: 104.9 | Q42: 41 | R42: UAB „Kaišiadorių vandenys“ | S42: 158834726 | T42: Uždaroji akcinė bendrovė (UAB) | U42: Vandentvarka | V42: Kaišiadorių rajono savivaldybė
B43: Finansinė ir investicinė veikla | C43: =C44-C45 -> -54.1 | E43: =E44-E45 -> 247.7 | Q43: 42 | R43: UAB „Kaišiadorių šiluma“ | S43: 158996646 | T43: Uždaroji akcinė bendrovė (UAB) | U43: Šilumos tinklai | V43: Kaišiadorių rajono savivaldybė
B44: Pajamos | C44: 23.9 | E44: 249.1 | Q44: 43 | R44: SĮ „Kaišiadorių paslaugos“ | S44: 258847030 | T44: Savivaldybės įmonė (SĮ) | U44: Kita | V44: Kaišiadorių rajono savivaldybė
B45: Sąnaudos | C45: 78 | E45: 1.4 | Q45: 44 | R45: UAB „Kalvarijos komunalininkas“ | S45: 165717011 | T45: Uždaroji akcinė bendrovė (UAB) | U45: Vandentvarka | V45: Kalvarijos savivaldybė
B46: Pelnas (nuostoliai) prieš apmokestinimą | C46: =+C40+C41+C42+C43 -> -632.4 | E46: =+E40+E41+E42+E43 -> 1026.7 | Q46: 45 | R46: AB „Kauno energija“ | S46: 235014830 | T46: Akcinė bendrovė (AB) | U46: Šilumos tinklai | V46: Kauno miesto savivaldybė
B47: Pelno mokestis | C47: -86.7 | E47: 177 | Q47: 46 | R47: UAB „Kauno autobusai“ | S47: 133154754 | T47: Uždaroji akcinė bendrovė (UAB) | U47: Viešasis transportas | V47: Kauno miesto savivaldybė
B48: Grynasis pelnas (nuostoliai) | C48: =C46-C47 -> -545.7 | E48: =E46-E47 -> 849.7 | Q48: 47 | R48: UAB „Kauno vandenys“ | S48: 132751369 | T48: Uždaroji akcinė bendrovė (UAB) | U48: Vandentvarka | V48: Kauno miesto savivaldybė
Q49: 48 | R49: UAB „Kauno švara“ | S49: 132616649 | T49: Uždaroji akcinė bendrovė (UAB) | U49: Kita | V49: Kauno miesto savivaldybė
C50: LENTELĖSE DUOMENYS PATEIKIAMI TŪKSTANČIAIS EURŲ (JEI NENURODYTA KITAIP), VIENO SKAIČIAUS PO KABLELIO TIKSLUMU | Q50: 49 | R50: UAB „Kauno gatvių apšvietimas“ | S50: 132684155 | T50: Uždaroji akcinė bendrovė (UAB) | U50: Kita | V50: Kauno miesto savivaldybė
B51: Balansas | C51: Praėjęs ataskaitinis laikotarpis 2022 m. | E51: Ataskaitinis laikotarpis 2023 m. | Q51: 50 | R51: UAB „Stoties turgus“ | S51: 233923260 | T51: Uždaroji akcinė bendrovė (UAB) | U51: Kita | V51: Kauno miesto savivaldybė
B52: Nematerialusis turtas | C52: 24.7 | E52: 23.1 | Q52: 51 | R52: UAB „Centrinis knygynas“ | S52: 133607044 | T52: Uždaroji akcinė bendrovė (UAB) | U52: Kita | V52: Kauno miesto savivaldybė
B53: Materialusis turtas | C53: 10292.1 | E53: 9796.2 | Q53: 52 | R53: UAB „Laboratorinių bandymų centras“ | S53: 135641038 | T53: Uždaroji akcinė bendrovė (UAB) | U53: Kita | V53: Kauno miesto savivaldybė
B54: Finansinis turtas | C54: 0 | Q54: 53 | R54: UAB Kauno butų ūkis | S54: 132532496 | T54: Uždaroji akcinė bendrovė (UAB) | U54: Kita | V54: Kauno miesto savivaldybė
B55: Kitas ilgalaikis turtas | C55: 71.5 | Q55: 54 | R55: SĮ „Kapinių priežiūra“ | S55: 132626180 | T55: Savivaldybės įmonė (SĮ) | U55: Kita | V55: Kauno miesto savivaldybė
B56: Ilgalaikis turtas | C56: =SUM(C52:C55) -> 10388.3 | E56: =SUM(E52:E55) -> 9819.3 | Q56: 55 | R56: SĮ „Kauno planas“ | S56: 133810450 | T56: Savivaldybės įmonė (SĮ) | U56: Kita | V56: Kauno miesto savivaldybė
Q57: 56 | R57: UAB „Giraitės vandenys“ | S57: 159702357 | T57: Uždaroji akcinė bendrovė (UAB) | U57: Vandentvarka | V57: Kauno rajono savivaldybė
B58: Atsargos | C58: 5.1 | E58: 4.5 | Q58: 57 | R58: UAB Komunalinių paslaugų centras | S58: 301846604 | T58: Uždaroji akcinė bendrovė (UAB) | U58: Šilumos tinklai | V58: Kauno rajono savivaldybė
B59: Per vienerius metus gautinos sumos | C59: 1350.2 | E59: 1598.1 | Q59: 58 | R59: UAB „Kazlų Rūdos šilumos tinklai“ | S59: 166092559 | T59: Uždaroji akcinė bendrovė (UAB) | U59: Šilumos tinklai | V59: Kazlų Rūdos savivaldybė
B60: -Iš jų: Pirkėjų skolos | C60: 1350.2 | E60: 1598.1 | Q60: 59 | R60: UAB „Kėdbusas“ | S60: 161229484 | T60: Uždaroji akcinė bendrovė (UAB) | U60: Viešasis transportas | V60: Kėdainių rajono savivaldybė
B61: Kitas trumpalaikis turtas | C61: 46.3 | E61: 43.9 | Q61: 60 | R61: UAB „Kėdainių butai“ | S61: 161130867 | T61: Uždaroji akcinė bendrovė (UAB) | U61: Kita | V61: Kėdainių rajono savivaldybė
B62: Pinigai ir pinigų ekvivalentai | C62: 14988.8 | E62: 17180.9 | Q62: 61 | R62: UAB „Kėdainių vandenys“ | S62: 161186428 | T62: Uždaroji akcinė bendrovė (UAB) | U62: Vandentvarka | V62: Kėdainių rajono savivaldybė
B63: Trumpalaikis turtas | C63: =SUM(C58:C59,C61:C62) -> 16390.4 | E63: =SUM(E58:E59,E61:E62) -> 18827.4 | Q63: 62 | R63: UAB „Kelmės vanduo“ | S63: 162559136 | T63: Uždaroji akcinė bendrovė (UAB) | U63: Vandentvarka | V63: Kelmės rajono savivaldybė
Q64: 63 | R64: UAB „Kelmės autobusų parkas“ | S64: 162441351 | T64: Uždaroji akcinė bendrovė (UAB) | U64: Viešasis transportas | V64: Kelmės rajono savivaldybė
B65: Ateinančių laikotarpių sąnaudos ir sukauptos pajamos | Q65: 64 | R65: UAB Kelmės vietinis ūkis | S65: 162732556 | T65: Uždaroji akcinė bendrovė (UAB) | U65: Kita | V65: Kelmės rajono savivaldybė
Q66: 65 | R66: AB „Klaipėdos vanduo“ | S66: 140089260 | T66: Akcinė bendrovė (AB) | U66: Vandentvarka | V66: Klaipėdos miesto savivaldybė
B67: Ilgalaikis turtas, laikomas pardavimui | C67: 3044.1 | E67: 2740.4 | Q67: 66 | R67: AB „Klaipėdos energija“ | S67: 140249252 | T67: Akcinė bendrovė (AB) | U67: Šilumos tinklai | V67: Klaipėdos miesto savivaldybė
Q68: 67 | R68: UAB Klaipėdos regiono atliekų tvarkymo centras | S68: 163743744 | T68: Uždaroji akcinė bendrovė (UAB) | U68: RATC | V68: Klaipėdos miesto savivaldybė
B69: Turto iš viso | C69: =SUM(C56,C63,C65,C67) -> 29822.8 | E69: =SUM(E56,E63,E65,E67) -> 31387.1 | Q69: 68 | R69: UAB „Klaipėdos paslaugos“ | S69: 140033557 | T69: Uždaroji akcinė bendrovė (UAB) | U69: Viešasis transportas | V69: Klaipėdos miesto savivaldybė
Q70: 69 | R70: UAB „Naujasis turgus“ | S70: 140842886 | T70: Uždaroji akcinė bendrovė (UAB) | U70: Kita | V70: Klaipėdos miesto savivaldybė
B71: Kapitalas (jeigu įmonės teisinė forma yra AB ar UAB) / Įmonės savininko kapitalas (jeigu įmonės teisinė forma yra SĮ) | C71: 20014.7 | E71: 19909 | Q71: 70 | R71: UAB „Vildmina“ | S71: 141525547 | T71: Uždaroji akcinė bendrovė (UAB) | U71: Kita | V71: Klaipėdos miesto savivaldybė
B72: -Iš jo: Įstatinio (pasirašytojo) kapitalo dalis | C72: 20014.7 | E72: 19909 | Q72: 71 | R72: UAB „Debreceno vaistinė“ | S72: 140786882 | T72: Uždaroji akcinė bendrovė (UAB) | U72: Kita | V72: Klaipėdos miesto savivaldybė
B73: Turtą, kuris pagal įstatymus gali būti tik valstybės nuosavybė, atitinkantis kapitalas | C73: 0 | Q73: 72 | R73: UAB „Klaipėdos rajono energija“ | S73: 302827126 | T73: Uždaroji akcinė bendrovė (UAB) | U73: Šilumos tinklai | V73: Klaipėdos rajono savivaldybė
B74: Centralizuotai valdomą valstybės turtą atitinkantis kapitalas | C74: 0 | Q74: 73 | R74: UAB „Gargždų turgus“ | S74: 163252987 | T74: Uždaroji akcinė bendrovė (UAB) | U74: Kita | V74: Klaipėdos rajono savivaldybė
B75: Akcijų priedai | C75: 0 | Q75: 74 | R75: SĮ „Kretingos komunalininkas“ | S75: 163934977 | T75: Savivaldybės įmonė (SĮ) | U75: Kita | V75: Kretingos rajono savivaldybė
B76: Perkainojimo rezervas (rezultatai) | C76: 0 | Q76: 75 | R76: UAB „Kretingos vandenys“ | S76: 163994426 | T76: Uždaroji akcinė bendrovė (UAB) | U76: Vandentvarka | V76: Kretingos rajono savivaldybė
B77: Rezervai | C77: 3001.3 | E77: 2771.3 | Q77: 76 | R77: UAB Kretingos autobusų parkas | S77: 163994611 | T77: Uždaroji akcinė bendrovė (UAB) | U77: Viešasis transportas | V77: Kretingos rajono savivaldybė
B78: -Iš jų: Privalomasis rezervas | C78: 2001.4 | E78: 2001.4 | Q78: 77 | R78: UAB „Kretingos turgus“ | S78: 300531865 | T78: Uždaroji akcinė bendrovė (UAB) | U78: Kita | V78: Kretingos rajono savivaldybė
B79: Nepaskirstytasis pelnas (nuostoliai) | C79: 3184 | E79: 4231.6 | Q79: 78 | R79: UAB Kretingos šilumos tinklai | S79: 164294882 | T79: Uždaroji akcinė bendrovė (UAB) | U79: Šilumos tinklai | V79: Kretingos rajono savivaldybė
B80: Nuosavas kapitalas | C80: =SUM(C71,C73:C77,C79:C79) -> 26200 | E80: =SUM(E71,E73:E77,E79:E79) -> 26911.9 | Q80: 79 | R80: UAB „Kupiškio autobusų parkas“ | S80: 164742773 | T80: Uždaroji akcinė bendrovė (UAB) | U80: Viešasis transportas | V80: Kupiškio rajono savivaldybė
Q81: 80 | R81: UAB „Kupiškio komunalininkas“ | S81: 164702526 | T81: Uždaroji akcinė bendrovė (UAB) | U81: Kita | V81: Kupiškio rajono savivaldybė
B82: Dotacijos, subsidijos | C82: 36.2 | E82: 0 | Q82: 81 | R82: UAB „Kupiškio vandenys“ | S82: 164702145 | T82: Uždaroji akcinė bendrovė (UAB) | U82: Vandentvarka | V82: Kupiškio rajono savivaldybė
Q83: 82 | R83: UAB „Lazdijų šiluma“ | S83: 165219441 | T83: Uždaroji akcinė bendrovė (UAB) | U83: Šilumos tinklai | V83: Lazdijų rajono savivaldybė
B84: Atidėjiniai | C84: 0 | E84: 22 | Q84: 83 | R84: UAB „Lazdijų vanduo“ | S84: 165171377 | T84: Uždaroji akcinė bendrovė (UAB) | U84: Vandentvarka | V84: Lazdijų rajono savivaldybė
Q85: 84 | R85: UAB „Marijampolės autobusų parkas“ | S85: 251168030 | T85: Uždaroji akcinė bendrovė (UAB) | U85: Viešasis transportas | V85: Marijampolės savivaldybė
B86: Po vienų metų mokėtinos sumos ir kiti ilgalaikiai įsipareigojimai | C86: 1815 | E86: 1713.2 | Q86: 85 | R86: UAB „Marijampolės šilumos tinklai“ | S86: 151425755 | T86: Uždaroji akcinė bendrovė (UAB) | U86: Šilumos tinklai | V86: Marijampolės savivaldybė
B87: -Iš jų: Skolos tiekėjams | C87: 0 | E87: 0 | Q87: 86 | R87: UAB „Sūduvos vandenys“ | S87: 151104226 | T87: Uždaroji akcinė bendrovė (UAB) | U87: Vandentvarka | V87: Marijampolės savivaldybė
B88: -Iš jų: Ilgalaikės finansinės skolos | C88: 677.4 | E88: 592.9 | Q88: 87 | R88: UAB Marijampolės apskrities atliekų tvarkymo centras | S88: 151479265 | T88: Uždaroji akcinė bendrovė (UAB) | U88: RATC | V88: Marijampolės savivaldybė
B89: Per vienus metus mokėtinos sumos ir kiti trumpalaikiai įsipareigojimai | C89: 1771.6 | E89: 2740 | Q89: 88 | R89: UAB „Mažeikių šilumos tinklai“ | S89: 166901968 | T89: Uždaroji akcinė bendrovė (UAB) | U89: Šilumos tinklai | V89: Mažeikių rajono savivaldybė
B90: -Iš jų: Skolos tiekėjams | C90: 1222.3 | E90: 1758.1 | Q90: 89 | R90: UAB „Mažeikių vandenys“ | S90: 166486116 | T90: Uždaroji akcinė bendrovė (UAB) | U90: Vandentvarka | V90: Mažeikių rajono savivaldybė
B91: -Iš jų: Ilgalaikių finansinių skolų einamųjų metų dalis | C91: 239.3 | E91: 305.8 | Q91: 90 | R91: UAB „Telšių regiono atliekų tvarkymo centras“ | S91: 171780190 | T91: Uždaroji akcinė bendrovė (UAB) | U91: RATC | V91: Mažeikių rajono savivaldybė
B92: Trumpalaikės finansinės skolos | C92: 239.3 | E92: 305.8 | Q92: 91 | R92: UAB „Tavo pastogė“ | S92: 166576994 | T92: Uždaroji akcinė bendrovė (UAB) | U92: Kita | V92: Mažeikių rajono savivaldybė
B93: Mokėtinos sumos ir kiti įsipareigojimai | C93: =SUM(C86,C89) -> 3586.6 | E93: =SUM(E86,E89) -> 4453.2 | Q93: 92 | R93: UAB „Mažeikių autobusų parkas“ | S93: 166552032 | T93: Uždaroji akcinė bendrovė (UAB) | U93: Viešasis transportas | V93: Mažeikių rajono savivaldybė
Q94: 93 | R94: UAB „Mažeikių komunalinis ūkis“ | S94: 166445258 | T94: Uždaroji akcinė bendrovė (UAB) | U94: Kita | V94: Mažeikių rajono savivaldybė
B95: Sukauptos sąnaudos ir ateinančių laikotarpių pajamos | C95: 0 | Q95: 94 | R95: UAB Molėtų autobusų parkas | S95: 167520735 | T95: Uždaroji akcinė bendrovė (UAB) | U95: Viešasis transportas | V95: Molėtų rajono savivaldybė
Q96: 95 | R96: UAB „Molėtų šiluma“ | S96: 167610175 | T96: Uždaroji akcinė bendrovė (UAB) | U96: Šilumos tinklai | V96: Molėtų rajono savivaldybė
B97: Įsipareigojimai, susiję su ilgalaikiu turtu, laikomu pardavimui | C97: 0 | Q97: 96 | R97: UAB Molėtų švara | S97: 167500661 | T97: Uždaroji akcinė bendrovė (UAB) | U97: Kita | V97: Molėtų rajono savivaldybė
Q98: 97 | R98: UAB Molėtų vanduo | S98: 167524751 | T98: Uždaroji akcinė bendrovė (UAB) | U98: Vandentvarka | V98: Molėtų rajono savivaldybė
B99: Nuosavo kapitalo ir įsipareigojimų iš viso | C99: =SUM(C80,C82,C84,C93,C95,C97) -> 29822.8 | E99: =SUM(E80,E82,E84,E93,E95,E97) -> 31387.1 | Q99: 98 | R99: UAB „Neringos komunalininkas“ | S99: 152703524 | T99: Uždaroji akcinė bendrovė (UAB) | U99: Kita | V99: Neringos savivaldybė
Q100: 99 | R100: UAB „Neringos energija“ | S100: 152768582 | T100: Uždaroji akcinė bendrovė (UAB) | U100: Šilumos tinklai | V100: Neringos savivaldybė
...

Sheet Finansiniai duomenys(2015-2016)
D3: Viešinamos informacijos apie savivaldybių valdomų įmonių veiklą ir rezultatus formos
D4: 1 priedas
B6: Informacija apie savivaldybių valdomų įmonių veiklą ir rezultatus 2015 - 2016 metais
B9: Įmonės pavadinimas | C9: ='Finansiniai duomenys'!C8 -> UAB „Vilniaus vystymo kompanija“
B10: Teisinė forma | C10: ='Finansiniai duomenys'!C9 -> Uždaroji akcinė bendrovė (UAB)
C11: Akcinė bendrovė (AB)
C12: Uždaroji akcinė bendrovė (UAB)
C13: Savivaldybės įmonė (SĮ)
B14: Įmonės teisinis statusas | C14: ='Finansiniai duomenys'!#REF! -> #REF!
C15: reorganizuojamas
C16: dalyvaujantis reorganizavime
C17: pertvarkomas
C18: restruktūrizuojamas
C19: bankrutuojantis
C20: bankrutavęs
C21: likviduojamas
C22: inicijuojantis Europos bendrovės steigimą jungimo būdu
C23: inicijuojantis Europos bendrovės steigimą valdymo (holdingo) būdu
C24: Europos bendrovė, kurios buveinė perkeliama
C25: dalyvaujantis atskyrime
C26: -
B27: Įmonės kodas | C27: ='Finansiniai duomenys'!C10 -> 120750163
B28: Įmonės įsteigimo data | C28: ='Finansiniai duomenys'!#REF! -> #REF!
B29: Sektorius, kuriame veikia įmonė | C29: ='Finansiniai duomenys'!#REF! -> #REF! | H29: Komunalinės paslaugos: vanduo (nurodyti laukelyje žemiau, ar įmonė tik nuomoja infrastruktūrą, ar pati teikia paslaugas galutiniams vartotojams)
C30: ='Finansiniai duomenys'!#REF! -> #REF! | H30: Komunalinės paslaugos: šilumos tinklai (nurodyti laukelyje žemiau, ar įmonė tik nuomoja infrastruktūrą, ar pati teikia paslaugas galutiniams vartotojams)
B31: Įmonės direktorius (generalinis direktorius) | C31: ='Finansiniai duomenys'!C12 -> Laura Joffė | H31: Butų ūkiai
B32: Įmonės vyr. finansininkas (vyr. buhalteris) | C32: ='Finansiniai duomenys'!C13 -> Odeta Kovaliova | H32: Komunalinės paslaugos: kita
H33: Atliekos ir šalinimo paslaugos
C34: Lentelės užpildymo dieną | H34: Viešasis transportas
B35: Akcininkų sąrašas | C35: 5 didžiausi akcininkai | E35: Valdoma akcijų dalis | H35: Kitos transporto paslaugos
B36: Akcininkas Nr.1 | C36: ='Finansiniai duomenys'!C17 -> Vilniaus miesto savivaldybės administracija | E36: ='Finansiniai duomenys'!E17 -> 1 | H36: Statyba ir architektūra
B37: Akcininkas Nr.2 | C37: ='Finansiniai duomenys'!C18 -> 0 | E37: ='Finansiniai duomenys'!E18 -> 0 | H37: Sveikatos priežiūros paslaugos
B38: Akcininkas Nr.3 | C38: ='Finansiniai duomenys'!#REF! -> #REF! | E38: ='Finansiniai duomenys'!#REF! -> #REF! | H38: Leidyba
B39: Akcininkas Nr.4 | C39: ='Finansiniai duomenys'!#REF! -> #REF! | E39: ='Finansiniai duomenys'!#REF! -> #REF! | H39: Kita (nurodyti laukelyje žemiau pagrindines veiklos sritis)
B40: Akcininkas Nr.5 | C40: ='Finansiniai duomenys'!#REF! -> #REF! | E40: ='Finansiniai duomenys'!#REF! -> #REF!
B41: Kiti akcininkai | C41: Kitų akcininkų valdoma dalis | E41: =100%-SUM(E36:E40) -> #REF!
B43: Savivaldybei priklausanti dalis (%) | C43: ='Finansiniai duomenys'!C24 -> 0
B44: Turtines ir neturtines teisės ir pareigas įmonėje/bendrovėje įgyvendinanti institucija (arba didžiausią akcijų dalį valdanti institucija) | C44: ='Finansiniai duomenys'!C25 -> 0
B46: Ar bendrovė turi kontroliuojamų įmonių? (pildo tik akcinės bendrovės ir uždarosios akcinės bendrovės) | C46: ='Finansiniai duomenys'!#REF! -> #REF!
B47: Nurodykite bendrovės kontroliuojamas įmones (pildoma, jei bendrovė turi kontroliuojamų įmonių) | C47: ='Finansiniai duomenys'!#REF! -> #REF!
C49: LENTELĖSE DUOMENYS PATEIKIAMI TŪKSTANČIAIS EURŲ (JEI NENURODYTA KITAIP), VIENO SKAIČIAUS PO KABLELIO TIKSLUMU
C51: Jei įmonė turi kontroliuojamų įmonių, pateikiami konsoliduoti įmonių grupės duomenys
C52: Lentelėse turi būti pateikiami audituoti metiniai duomenys
B53: Pelno (nuostolių) ataskaita | C53: 2015 metai | E53: 2016 metai
B54: Pardavimo pajamos
B55: Pardavimo savikaina
B56: Bendrasis pelnas (nuostoliai) | C56: =+C54-C55 -> 0 | E56: =+E54-E55 -> 0
B57: Pardavimo sąnaudos
B58: Bendrosios ir administracinės sąnaudos
B59: Veiklos pelnas (nuostoliai) | C59: =+C56-C57-C58 -> 0 | E59: =+E56-E57-E58 -> 0
B60: Dotacijos, susijusios su pajamomis
B61: Kitos veiklos rezultatai
B62: Finansinė ir investicinė veikla | C62: =C63-C64 -> 0 | E62: =E63-E64 -> 0
B63: Pajamos
B64: Sąnaudos
B65: Pelnas (nuostoliai) prieš apmokestinimą | C65: =+C59+C60+C61+C62 -> 0 | E65: =+E59+E60+E61+E62 -> 0
B66: Pelno mokestis
B67: Grynasis pelnas (nuostoliai) | C67: =C65-C66 -> 0 | E67: =E65-E66 -> 0
B68: -Iš jo: Mažumai tenkanti grynojo pelno dalis (pildoma akcinių bendrovių/uždarųjų akcinių bendrovių, turinčių kontroliuojamų įmonių)
B70: Balansas | C70: 42369 | E70: 42735
B71: Nematerialusis turtas
B72: Materialusis turtas
B73: Finansinis turtas
B74: Kitas ilgalaikis turtas
B75: Biologinis turtas
B76: Ilgalaikis turtas | C76: =SUM(C71:C75) -> 0 | E76: =SUM(E71:E75) -> 0
B78: Atsargos, išankstiniai apmokėjimai ir nebaigtos vykdyti sutartys
B79: Per vienerius metus gautinos sumos
B80: Kitas trumpalaikis turtas
B81: Pinigai ir pinigų ekvivalentai
B82: Trumpalaikis turtas | C82: =SUM(C78:C81) -> 0 | E82: =SUM(E78:E81) -> 0
B84: Ateinančių laikotarpių sąnaudos ir sukauptos pajamos
B86: Ilgalaikis turtas, laikomas pardavimui
B88: Turto iš viso | C88: =SUM(C76,C82,C84,C86) -> 0 | E88: =SUM(E76,E82,E84,E86) -> 0
B90: Kapitalas (jeigu įmonės teisinė forma yra AB ar UAB) / Įmonės savininko kapitalas (jeigu įmonės teisinė forma yra SĮ)
B91: -Iš jo: Įstatinio (pasirašytojo) kapitalo dalis
B92: Turtą, kuris pagal įstatymus gali būti tik valstybės nuosavybė, atitinkantis kapitalas
B93: Centralizuotai valdomą valstybės turtą atitinkantis kapitalas
B94: Perkainojimo rezervas (rezultatai)
B95: Rezervai
B96: -Iš jų: Privalomasis rezervas
B97: Nepaskirstytasis pelnas (nuostoliai)
B98: Mažumai tenkanti nuosavo kapitalo dalis (pildoma tik akcinių bendrovių/uždarųjų akcinių bendrovių, turinčių kontroliuojamų įmonių)
B99: Nuosavas kapitalas | C99: =SUM(C90,C92:C95,C97:C97) -> 0 | E99: =SUM(E90,E92:E95,E97:E97) -> 0
B101: Dotacijos, subsidijos
B103: Atidėjimai
B105: Ilgalaikiai įsipareigojimai
B106: -Iš jų: Ilgalaikės finansinės skolos
B107: Trumpalaikiai įsipareigojimai
B108: -Iš jų: Ilgalaikių finansinių skolų einamųjų metų dalis
B109: Trumpalaikės finansinės skolos
B110: Iš viso įsipareigojimų | C110: =SUM(C105,C107) -> 0 | E110: =SUM(E105,E107) -> 0
B112: Sukauptos sąnaudos ir ateinančių laikotarpių pajamos
B114: Įsipareigojimai, susiję su ilgalaikiu turtu, laikomu pardavimui
B116: Nuosavo kapitalo ir įsipareigojimų iš viso | C116: =SUM(C99,C101,C103,C110,C112,C114) -> 0 | E116: =SUM(E99,E101,E103,E110,E112,E114) -> 0
B118: Ar balansas susibalansuoja? | C118: =IF(ROUND((C88-C116)/2,1)=0,"Balansas",C88-C116) -> Balansas | E118: =IF(ROUND((E88-E116)/2,1)=0,"Balansas",E88-E116) -> Balansas
B121: Įmonės teisės ir įsipareigojimai, nenurodyti balanse
B124: Kita informacija | C124: =C53 -> 2015 metai | E124: =E53 -> 2016 metai
B125: Viso disponuojamo nekilnojamojo turto plotas, kv. m.
B127: Nusidėvėjimas ir amortizacija, įskaičiuoti į ataskaitinio laikotarpio pelno (nuostolių) ataskaitą
...
