Workbook

Sheet Finansiniai duomenys
R1: =COUNTA(R2:R232) -> 220 | S1: =COUNTA(S2:S232) -> 220 | T1: =COUNTA(T2:T232) -> 220
D2: PATVIRTINTA VšĮ Valdymo koordinavimo centro direktoriaus 2025 m. balandžio 8 d. įsakymu Nr. IV-10 | Q2: 1 | R2: UAB „Akmenės vandenys“ | S2: 253255950 | T2: Akmenės rajono savivaldybė | U2: 1 | V2: Vandentvarka
Q3: 2 | R3: UAB „Naujosios Akmenės komunalininkas“ | S3: 152903578 | T3: Akmenės rajono savivaldybė | U3: 1 | V3: Miesto priežiūros ir tvarkymo sektorius
Q4: 3 | R4: UAB Naujosios Akmenės autobusų parkas | S4: 152968145 | T4: Akmenės rajono savivaldybė | U4: 1 | V4: Viešasis transportas
Q5: 4 | R5: UAB „Dzūkijos vandenys“ | S5: 149566841 | T5: Alytaus miesto savivaldybė | U5: 0.9992 | V5: Vandentvarka
B6: Viešinamos informacijos apie savivaldybių valdomų įmonių ir jų dukterinių bendrovių veiklą ir rezultatus forma | Q6: 5 | R6: UAB „Alytaus šilumos tinklai“ | S6: 149947714 | T6: Alytaus miesto savivaldybė | U6: 0.9863 | V6: Šilumos tinklai
Q7: 6 | R7: UAB „Alytaus butų ūkis“ | S7: 149951417 | T7: Alytaus miesto savivaldybė | U7: 1 | V7: Šilumos tinklai
B8: Įmonės pavadinimas | C8: SĮ „Susisiekimo paslaugos“ | Q8: 7 | R8: UAB Alytaus regiono atliekų tvarkymo centras | S8: 250135860 | T8: Alytaus miesto savivaldybė | U8: 0.31 | V8: RATC
B9: Teisinė forma | C9: =IFERROR(VLOOKUP(C8,$R$1:$T$239,3,FALSE),"") -> Vilniaus miesto savivaldybė | H9: Akcinė bendrovė (AB) | Q9: 8 | R9: SĮ „Simno komunalininkas“ | S9: 153720195 | T9: Alytaus rajono savivaldybė | U9: - | V9: Vandentvarka
B10: Įmonės kodas | C10: =IFERROR(VLOOKUP(C8,$R$2:$S$239,2,FALSE),"") -> 124644360 | H10: Uždaroji akcinė bendrovė (UAB) | Q10: 9 | R10: UAB „Anykščių vandenys“ | S10: 154138664 | T10: Anykščių rajono savivaldybė | U10: 1 | V10: Vandentvarka
B11: Sektorius | C11: =IFERROR(VLOOKUP(C8,$R$2:$V$239,5,FALSE),"") -> Viešasis transportas | H11: Savivaldybės įmonė (SĮ | Q11: 10 | R11: UAB Anykščių komunalinis ūkis | S11: 154111083 | T11: Anykščių rajono savivaldybė | U11: 1 | V11: Daugiafunkcinių paslaugų teikimo sektorius
B12: Įmonės direktorius | C12: Loreta Levulytė-Staškevičienė | H12: Komunalinės paslaugos: vanduo (nurodyti laukelyje žemiau, ar įmonė tik nuomoja infrastruktūrą, ar pati teikia paslaugas galutiniams vartotojams) | Q12: 11 | R12: UAB „Anykščių šiluma“ | S12: 154112751 | T12: Anykščių rajono savivaldybė | U12: 0.9872 | V12: Šilumos tinklai
H13: Komunalinės paslaugos: šilumos tinklai (nurodyti laukelyje žemiau, ar įmonė tik nuomoja infrastruktūrą, ar pati teikia paslaugas galutiniams vartotojams) | Q13: 12 | R13: UAB „Birštono vandentiekis“ | S13: 152812840 | T13: Birštono savivaldybė | U13: 1 | V13: Vandentvarka
C14: Lentelės užpildymo dieną | H14: Butų ūkiai | Q14: 13 | R14: UAB „Birštono šiluma“ | S14: 152840633 | T14: Birštono savivaldybė | U14: 1 | V14: Šilumos tinklai
B15: Akcininkų sąrašas | C15: 5 didžiausi akcininkai | E15: Valdoma akcijų dalis | H15: Komunalinės paslaugos: kita (nurodykite laukelyje žemiau) | Q15: 14 | R15: AB Birštono sanatorija „Versmė“ | S15: 152814478 | T15: Birštono savivaldybė | U15: 0.8352 | V15: Kita
B16: Akcininkas Nr.1 | C16: Vilniaus miesto savivaldybė | E16: 1 | H16: Atliekos ir šalinimo paslaugos | Q16: 15 | R16: SĮ Biržų agrolaboratorija | S16: 154724428 | T16: Biržų rajono savivaldybė | U16: - | V16: Kita
B17: Akcininkas Nr.2 | H17: Viešasis transportas | Q17: 16 | R17: UAB Biržų autobusų parkas | S17: 154742789 | T17: Biržų rajono savivaldybė | U17: 1 | V17: Viešasis transportas
B18: Akcininkas Nr.3 | H18: Kitos transporto paslaugos | Q18: 17 | R18: UAB „Biržų šilumos tinklai“ | S18: 154866655 | T18: Biržų rajono savivaldybė | U18: 1 | V18: Šilumos tinklai
B19: Akcininkas Nr.4 | H19: Statyba ir architektūra | Q19: 18 | R19: UAB „Biržų vandenys“ | S19: 154850665 | T19: Biržų rajono savivaldybė | U19: 0.9311 | V19: Vandentvarka
B20: Akcininkas Nr.5 | H20: Sveikatos priežiūros paslaugos | Q20: 19 | R20: AB „Druskininkų šilumos tinklai“ | S20: 152003098 | T20: Druskininkų savivaldybė | U20: 0.9764 | V20: Šilumos tinklai
B21: Kiti akcininkai | C21: Kitų akcininkų valdoma dalis | E21: =100%-SUM(E16:E20) -> 0 | H21: Leidyba | Q21: 20 | R21: UAB „Druskininkų vandenys“ | S21: 301500997 | T21: Druskininkų savivaldybė | U21: 1 | V21: Vandentvarka
H22: Kita (nurodyti laukelyje žemiau pagrindines veiklos sritis) | Q22: 21 | R22: UAB „Druskininkų sveikatinimo ir poilsio centras AQUA“ | S22: 300076944 | T22: Druskininkų savivaldybė | U22: 1 | V22: Kita
B23: Savivaldybei priklausanti dalis (%) | C23: 1 | Q23: 22 | R23: UAB „Druskininkų butų ūkis“ | S23: 152007157 | T23: Druskininkų savivaldybė | U23: 1 | V23: Butų ūkis
B24: Turtines ir neturtines teisės ir pareigas įmonėje / bendrovėje įgyvendinanti institucija (arba didžiausią akcijų dalį valdanti institucija) | Q24: 23 | R24: UAB Elektrėnų autobusų parkas | S24: 305802733 | T24: Elektrėnų savivaldybė | U24: 1 | V24: Viešasis transportas
Q25: 24 | R25: UAB „Elektrėnų komunalinis ūkis“ | S25: 181613656 | T25: Elektrėnų savivaldybė | U25: 1 | V25: Daugiafunkcinių paslaugų teikimo sektorius
B26: Ar bendrovė turi kontroliuojamų įmonių? (pildo tik akcinės bendrovės ir uždarosios akcinės bendrovės) | C26: Ne | Q26: 25 | R26: UAB „Didžiasalio komunalinės paslaugos“ | S26: 155513971 | T26: Ignalinos rajono savivaldybė | U26: 1 | V26: Šilumos tinklai
B27: Nurodykite bendrovės kontroliuojamas įmones (pildoma, jei bendrovė turi kontroliuojamų įmonių) | Q27: 26 | R27: UAB Ignalinos butų ūkis | S27: 255512870 | T27: Ignalinos rajono savivaldybė | U27: 0.9971 | V27: Daugiafunkcinių paslaugų teikimo sektorius
Q28: 27 | R28: UAB Ignalinos šilumos tinklai | S28: 155634880 | T28: Ignalinos rajono savivaldybė | U28: 0.9985 | V28: Šilumos tinklai
C29: LENTELĖSE DUOMENYS PATEIKIAMI TŪKSTANČIAIS EURŲ (JEI NENURODYTA KITAIP), VIENO SKAIČIAUS PO KABLELIO TIKSLUMU | Q29: 28 | R29: SĮ „Kompata“ | S29: 155402647 | T29: Ignalinos rajono savivaldybė | U29: - | V29: Miesto priežiūros ir tvarkymo sektorius
C30: Kur įmanoma, duomenys pateikiami augimo (agregavimo) principu | Q30: 29 | R30: UAB „Jonavos paslaugos“ | S30: 156916523 | T30: Jonavos rajono savivaldybė | U30: 1 | V30: Miesto priežiūros ir tvarkymo sektorius
C31: Jei įmonė turi kontroliuojamų įmonių, pateikiami konsoliduoti įmonių grupės duomenys | Q31: 30 | R31: UAB „Jonavos vandenys“ | S31: 256564350 | T31: Jonavos rajono savivaldybė | U31: 1 | V31: Vandentvarka
C32: Lentelėse turi būti pateikiami audituoti metiniai duomenys | Q32: 31 | R32: UAB „Jonavos autobusai“ | S32: 156576661 | T32: Jonavos rajono savivaldybė | U32: 1 | V32: Viešasis transportas
B33: Pelno (nuostolių) ataskaita | C33: Praėjęs ataskaitinis laikotarpis 2023 m. | E33: Ataskaitinis laikotarpis 2024 m. | Q33: 32 | R33: UAB „Jonavos šilumos tinklai“ | S33: 156737189 | T33: Jonavos rajono savivaldybė | U33: 1 | V33: Šilumos tinklai
B34: Pardavimo pajamos | C34: 41893.5 | E34: 44747 | Q34: 33 | R34: UAB „Joniškio vandenys“ | S34: 157531950 | T34: Joniškio rajono savivaldybė | U34: 1 | V34: Vandentvarka
B35: Pardavimo savikaina | C35: 35991.4 | E35: 38762.6 | Q35: 34 | R35: UAB „Joniškio butų ūkis“ | S35: 157521319 | T35: Joniškio rajono savivaldybė | U35: 1 | V35: Daugiafunkcinių paslaugų teikimo sektorius
B36: Bendrasis pelnas (nuostoliai) | C36: =+C34-C35 -> 5902.1 | E36: =+E34-E35 -> 5984.4 | Q36: 35 | R36: UAB „Joniškio autobusų parkas“ | S36: 157536164 | T36: Joniškio rajono savivaldybė | U36: 1 | V36: Viešasis transportas
B37: Pardavimo sąnaudos | C37: 856.3 | E37: 946.5 | Q37: 36 | R37: UAB „Jurbarko komunalininkas“ | S37: 258325370 | T37: Jurbarko rajono savivaldybė | U37: 1 | V37: Daugiafunkcinių paslaugų teikimo sektorius
B38: Bendrosios ir administracinės sąnaudos | C38: 3754.5 | E38: 4229.1 | Q38: 37 | R38: UAB „Jurbarko autobusų parkas“ | S38: 158161361 | T38: Jurbarko rajono savivaldybė | U38: 1 | V38: Viešasis transportas
B39: Veiklos pelnas (nuostoliai) | C39: =+C36-C37-C38 -> 1291.3 | E39: =+E36-E37-E38 -> 808.8 | Q39: 38 | R39: UAB „Jurbarko vandenys“ | S39: 158275315 | T39: Jurbarko rajono savivaldybė | U39: 1 | V39: Vandentvarka
B40: Dotacijos, susijusios su pajamomis | Q40: 39 | R40: SĮ „Jurbarko planas“ | S40: 158737526 | T40: Jurbarko rajono savivaldybė | U40: - | V40: Kita
...

Sheet Finansiniai duomenys(2015-2016)
D3: Viešinamos informacijos apie savivaldybių valdomų įmonių veiklą ir rezultatus formos
D4: 1 priedas
B6: Informacija apie savivaldybių valdomų įmonių veiklą ir rezultatus 2015 - 2016 metais
B9: Įmonės pavadinimas | C9: ='Finansiniai duomenys'!C8 -> SĮ „Susisiekimo paslaugos“
B10: Teisinė forma | C10: ='Finansiniai duomenys'!C9 -> Vilniaus miesto savivaldybė
C11: Akcinė bendrovė (AB)
C12: Uždaroji akcinė bendrovė (UAB)
C13: Savivaldybės įmonė (SĮ)
B14: Įmonės teisinis statusas | C14: ='Finansiniai duomenys'!#REF! -> #REF!
C15: reorganizuojamas
C16: dalyvaujantis reorganizavime
C17: pertvarkomas
C18: restruktūrizuojamas
C19: bankrutuojantis
C20: bankrutavęs
C21: likviduojamas
C22: inicijuojantis Europos bendrovės steigimą jungimo būdu
C23: inicijuojantis Europos bendrovės steigimą valdymo (holdingo) būdu
C24: Europos bendrovė, kurios buveinė perkeliama
C25: dalyvaujantis atskyrime
C26: -
B27: Įmonės kodas | C27: ='Finansiniai duomenys'!C10 -> 124644360
B28: Įmonės įsteigimo data | C28: ='Finansiniai duomenys'!#REF! -> #REF!
B29: Sektorius, kuriame veikia įmonė | C29: ='Finansiniai duomenys'!#REF! -> #REF! | H29: Komunalinės paslaugos: vanduo (nurodyti laukelyje žemiau, ar įmonė tik nuomoja infrastruktūrą, ar pati teikia paslaugas galutiniams vartotojams)
C30: ='Finansiniai duomenys'!#REF! -> #REF! | H30: Komunalinės paslaugos: šilumos tinklai (nurodyti laukelyje žemiau, ar įmonė tik nuomoja infrastruktūrą, ar pati teikia paslaugas galutiniams vartotojams)
B31: Įmonės direktorius (generalinis direktorius) | C31: ='Finansiniai duomenys'!#REF! -> #REF! | H31: Butų ūkiai
B32: Įmonės vyr. finansininkas (vyr. buhalteris) | C32: ='Finansiniai duomenys'!#REF! -> #REF! | H32: Komunalinės paslaugos: kita
H33: Atliekos ir šalinimo paslaugos
C34: Lentelės užpildymo dieną | H34: Viešasis transportas
B35: Akcininkų sąrašas | C35: 5 didžiausi akcininkai | E35: Valdoma akcijų dalis | H35: Kitos transporto paslaugos
B36: Akcininkas Nr.1 | C36: ='Finansiniai duomenys'!C16 -> Vilniaus miesto savivaldybė | E36: ='Finansiniai duomenys'!E16 -> 1 | H36: Statyba ir architektūra
B37: Akcininkas Nr.2 | C37: ='Finansiniai duomenys'!C17 -> 0 | E37: ='Finansiniai duomenys'!E17 -> 0 | H37: Sveikatos priežiūros paslaugos
B38: Akcininkas Nr.3 | C38: ='Finansiniai duomenys'!#REF! -> #REF! | E38: ='Finansiniai duomenys'!#REF! -> #REF! | H38: Leidyba
B39: Akcininkas Nr.4 | C39: ='Finansiniai duomenys'!#REF! -> #REF! | E39: ='Finansiniai duomenys'!#REF! -> #REF! | H39: Kita (nurodyti laukelyje žemiau pagrindines veiklos sritis)
B40: Akcininkas Nr.5 | C40: ='Finansiniai duomenys'!#REF! -> #REF! | E40: ='Finansiniai duomenys'!#REF! -> #REF!
B41: Kiti akcininkai | C41: Kitų akcininkų valdoma dalis | E41: =100%-SUM(E36:E40) -> #REF!
B43: Savivaldybei priklausanti dalis (%) | C43: ='Finansiniai duomenys'!C23 -> 1
B44: Turtines ir neturtines teisės ir pareigas įmonėje/bendrovėje įgyvendinanti institucija (arba didžiausią akcijų dalį valdanti institucija) | C44: ='Finansiniai duomenys'!C24 -> 0
B46: Ar bendrovė turi kontroliuojamų įmonių? (pildo tik akcinės bendrovės ir uždarosios akcinės bendrovės) | C46: ='Finansiniai duomenys'!#REF! -> #REF!
B47: Nurodykite bendrovės kontroliuojamas įmones (pildoma, jei bendrovė turi kontroliuojamų įmonių) | C47: ='Finansiniai duomenys'!#REF! -> #REF!
...

Sheet Papildoma informacija
B2: FORMOS PILDYMO TAISYKLĖS | G2: Viešinamos informacijos apie savivaldybių valdomų įmonių ir jų dukterinių bendrovių veiklą ir rezultatus formos
B3: PRAŠOME VISŲ ĮMONIŲ UŽPILDYTI ŽEMIAU ESANČIAS "INFORMACIJOS APIE ĮMONĖS VALDYSENĄ" IR "PARDAVIMO PAJAMŲ STRUKTŪRA" LENTELES RATC, ŠILUMOS TINKLŲ, VANDENTVARKOS IR VIEŠOJO TRANSPORTO SEKTORIAUS ĮMONIŲ PRAŠOME PAPILDOMAI UŽPILDYTI ATITINKAMAI PAVADINTAS LENTELES | G3: 1 priedas
B4: Įmonės pavadinimas | C4: ='Finansiniai duomenys'!C8 -> SĮ „Susisiekimo paslaugos“
B5: Teisinė forma | C5: =IFERROR(VLOOKUP(C4,'Finansiniai duomenys'!R2:T232,3,FALSE),"") -> Vilniaus miesto savivaldybė
B6: Įmonės kodas | C6: =IFERROR(VLOOKUP(C4,'Finansiniai duomenys'!R2:T232,2,FALSE),"") -> 124644360
B7: Sektorius, kuriame veikia įmonė | C7: =IFERROR(VLOOKUP(C4,'Finansiniai duomenys'!R2:V232,5,FALSE),"") -> Viešasis transportas
C11: Informacija apie Įmonės valdyseną
C13: Ar per paskutinius 4 metus įmonei buvo pateiktas (arba atnaujintas) patvirtintas raštas dėl valstybės lūkesčių (lūkesčių raštas)? | F13: Taip
C14: Prašome įrašyti naujausio lūkesčių rašto datą | F14: 2025 m. vasario 17 d.
C15: Ar lūkesčių rašte nustatyti finansiniai tikslai? | F15: Taip
C16: Ar šiuo metu galiojantis lūkesčių raštas yra aktualus ir atitinka savivaldybės komunikuojamus lūkesčius ar verslo aplinką? | F16: Taip
C19: Ar įmonė turi patvirtintą Strateginį veiklos planą? | F19: Taip
C20: Jei įmonė viešina savo strateginį veiklos planą svetainėje, prašome pateikti nuorodą | F20: https://judu.lt/wp-content/uploads/2021/06/SISP_strategija_2030.pdf
C21: Jei įmonė strateginį veiklos planą turi, kada jis buvo patvirtintas? | G21: 2021 m. balandžio 9 d. Nr. 30-946/21
C22: Kas kiek laiko yra atnaujinamas strateginis veiklos planas? | F22: 2025
C23: Kas tvirtina strateginį veiklos planą? | F23: Savivaldybės administracija
C24: Kaip dažnai yra atliekamas strateginio veiklos plano įgyvendinimo vertinimas? | F24: Kasmet su veiklos ataskaita
C26: Klausimai apie valdybą (o jei sudaryta stebėtojų taryba - tik apie stebėtojų tarybą)
C28: Ar įmonėje yra sudaryta valdyba (stebėtojų taryba)? | F28: Taip
C29: Ar valdyba (stebėtojų taryba) kasmet atlieka formalizuotą savo veiklos vertinimą? | F29: Taip
C30: Ar valdyba (stebėtojų taryba) kasmet pasitvirtina metinį veiklos planą (kuriame nustatomas valdybos (stebėtojų tarybos) posėdžių grafikas, svarbiausi numatomi darbai)? | F30: Taip
C31: Ar 2024 metais buvo organizuoti susitikimai tarp valdybos (stebėtojų tarybos) pirmininko ir savivaldybei atstovaujančios institucijos vadovybės (siekiant aptarti veiklos rezultatus ir pristatyti valdybos (stebėtojų tarybos) veiklą 2024 metais)? | F31: Taip
C34: Pardavimo pajamų struktūra | F34: Praėjęs ataskaitinis laikotarpis 2023 m. | H34: Ataskaitinis laikotarpis 2024 m.
C35: Prašome detalizuoti Įmonės pardavimo pajamas pagal skirtingas veiklas, kurias įmonė vykdo. Prašome išskirti visas veiklas, kurios sudaro bent 10 proc. įmonės pardavimo pajamų
C36: Pardavimo pajamos, tūkst. eurų | F36: ='Finansiniai duomenys'!C34 -> 41893.5 | H36: ='Finansiniai duomenys'!E34 -> 44747
C37: 1. | D37: Viešojo keleivinio transporto bilietų pardavimai | F37: 31666.3 | H37: 33913.8
C38: 2. | D38: Pajamos už rinliavos už automobilių stovėjimą administravimą ir automobilių infrastruktūros plėtros ir priežiūros paslaugas | F38: 4203.9 | H38: 4314.9
C39: 3.
C40: 4.
C41: 5.
C42: 6.
C43: 7.
C44: 8.
C45: 9.
C46: 10.
C47: Kitos pardavimo pajamos, tūkst. Eurų | F47: =F36-F37-F38-F39-F40-F44-F45-F46-F41-F43 -> 6023.3 | H47: =H36-H37-H38-H39-H40-H44-H45-H46-H41-H43 -> 6518.3
C50: RATC | F50: Praėjęs ataskaitinis laikotarpis 2023 m. | H50: Ataskaitinis laikotarpis 2024 m.
C51: Investicijos į atliekų tvarkymo įrenginius, tūkst. eurų | F51: 0 | H51: 0
C52: Valdoma infrastruktūra:
C53: - Regioniniai sąvartynai
...

Sheet Suteikta parama
C3: INFORMACIJĄ PILDO TIK BENDROVĖS IR UŽDAROSIOS AKCINĖS BENDROVĖS | K3: Viešinamos informacijos apie savivaldybių valdomų įmonių ir jų dukterinių bendrovių veiklą ir rezultatus formos
C4: INFORMACIJA APIE SUTEIKTĄ PARAMĄ PATEIKIAMA TŪKSTANČIAIS EURŲ, VIENO SKAIČIAUS PO KABLELIO TIKSLUMU | K4: 2 priedas
C6: Informacija apie savivaldybių valdomų bendrovių suteiktą paramą
C9: Įmonės pavadinimas | E9: ='Finansiniai duomenys'!C8 -> SĮ „Susisiekimo paslaugos“
C10: Teisinė forma | E10: ='Finansiniai duomenys'!C9 -> Vilniaus miesto savivaldybė
C11: Įmonės kodas | E11: ='Finansiniai duomenys'!C10 -> 124644360
O13: Ne, parama nebuvo teikiama ir (ar) neplanuojama jos teikti
C14: Ar praėjusiu ataskaitiniu laikotarpiu 2023 m. bent vienam subjektui bendrovė suteikė paramą? | E14: Ne | I14: Ar ataskaitiniu laikotarpiu 2024 m. bent vienam subjektui bendrovė suteikė paramą? | K14: Ne
C15: Pastaba: jeigu įmonė paramos praėjusiu ataskaitiniu laikotarpiu 2023 m. neteikė, žemiau esanti informacija nepildoma. | I15: Pastaba: jeigu įmonė paramos ataskaitiniu laikotarpiu 2024 m. neteikė, žemiau esanti informacija nepildoma.
C16: Ar bendrovės interneto svetainėje skelbiama informacija apie 2023 m. bendrovės suteiktą paramą? | I16: Ar bendrovės interneto svetainėje skelbiama informacija apie 2024 m. bendrovės suteiktą paramą?
C17: Pateikite tikslią internetinės svetainės nuorodą, kurioje skelbiama informaciją apie suteiktą paramą | I17: Pateikite tikslią internetinės svetainės nuorodą, kurioje skelbiama informaciją apie suteiktą paramą
C20: Informacija apie suteiktą paramą praėjusiu ataskaitiniu laikotarpiu 2023 m. | I20: Informacija apie suteiktą paramą ataskaitiniu laikotarpiu 2024 m.
C22: Pastaba: lentelė pildoma, jei praėjusiu ataskaitiniu laikotarpiu 2023 m. bent vienam subjektui buvo suteikta parama. | I22: Pastaba: lentelė pildoma, jei ataskaitiniu laikotarpiu 2024 m. bent vienam subjektui buvo suteikta parama.
C23: Eil. Nr. | D23: Paramos gavėjas | E23: Paramos panaudojimo paskirtis | F23: Suteikta parama (tūkst. eurų) | I23: Eil. Nr. | J23: Paramos gavėjas | K23: Paramos panaudojimo paskirtis | L23: Suteikta parama (tūkst. eurų)
C24: 1 | I24: 1
C25: 2 | I25: 2
C26: 3 | I26: 3
C27: 4 | I27: 4
C28: 5 | I28: 5
C29: 6 | I29: 6
C30: 7 | I30: 7
C31: 8 | I31: 8
C32: 9 | I32: 9
C33: 10 | I33: 10
C34: 11 | I34: 11
C35: 12 | I35: 12
... C83: 60 | I83: 60
C85: Pastabos
C86: Jeigu turite pastabų dėl užpildytos informacijos, pateikite jas čia:
C88: Informacija apie lentelės duomenų tikrumą patvirtinantį asmenį
C89: Lentelės duomenų patvirtinimo data | F89: 45763
C90: Atsakingas asmuo (vardas, pavardė, pareigos) | F90: Vyr. buhalterė Indrė Putnienė
C91: Atsakingo asmens kontaktiniai duomenys (telefono nr. ir elektroninio pašto adresas) | F91: Indre.Putniene@judu.lt, +370 658 22 623
C92: Atsakingo asmens parašas (reikalingas tik skenuotoje versijoje) arba elektroninis parašas

Sheet Specialieji įpareigojimai
C2: INFORMACIJĄ PILDO TIK ĮMONĖS, KURIOS VYKDO SPECIALIUOSIUS ĮPAREIGOJIMUS | U2: Taip
G3: Įmonės pavadinimas | H3: ='Finansiniai duomenys'!C8 -> SĮ „Susisiekimo paslaugos“ | N3: Viešinamos informacijos apie savivaldybių valdomų įmonių ir jų dukterinių bendrovių veiklą ir rezultatus formos | U3: Ne
C4: PRAŠOME UŽPILDYTI VISUS MELSVUS LAUKELIUS KIEKVIENAM ĮMONĖS VYKDOMAM SPECIALIAJAM ĮPAREIGOJIMUI. SUMOS TURI BŪTI NURODYTOS TŪKSTANČIAIS EURŲ, VIENO SKAIČIAUS PO KABLELIO TIKSLUMU | G4: Įmonės teisinė forma | H4: =IFERROR(VLOOKUP(H3,'Finansiniai duomenys'!R2:T232,3,FALSE),"") -> Vilniaus miesto savivaldybė
G5: Įmonės kodas | H5: =IFERROR(VLOOKUP(H3,'Finansiniai duomenys'!R2:T232,2,FALSE),"") -> 124644360 | N5: 3 priedas
C7: PASTABA: Pagal ekonomikos ir inovacijų ministrės specialiųjų įpareigojimų rekomendacijų (esančių įsakyme Nr. 4-1100) 21 punktą, pateikiame apibrėžimą "Neįskaičiuojama į įmonės finansines ataskaitas" - į įmonės finansines ataskaitas neįskaičiuojami funkcijų rodikliai, nurodomos sąnaudos arba pajamos, kurios neįtraukiamos į galutinę audituojamą pelno (nuostolių) ataskaitą (pvz., sąnaudos kompensuojamos iš biudžeto), ar turtas, kuris dalyvauja vykdant specialųjį įpareigojimą, bet nėra įtrauktas į galutinį audituojamą balansą (t. y. užbalansinis), ar kitos į galutines finansines ataskaitas neįtraukiamos eilutės. | G7: Ar įmonė pasitvirtinusi specialiųjų įpareigojimų apskaitos politiką?
G8: Ar specialieji įpareigojimai yra patvirtinti savivaldybės administracijos direktoriaus?
G9: Ar savivaldybės interneto svetainėje yra viešinamas specialiųjų įpareigojimų sąrašas?
G10: (Jei atsakymas TAIP, prašome šalia esančiame langelyje pateikti internetinės sveitainės nuorodą)
C12: PRAĖJĘS ATASKAITINIS LAIKOTARPIS 2023 M. | G12: Žemiau prašome nurodyti specialiojo įpareigojimo pavadinimą | I12: Žemiau prašome nurodyti specialiojo įpareigojimo pavadinimą | K12: Žemiau prašome nurodyti specialiojo įpareigojimo pavadinimą | M12: Žemiau prašome nurodyti specialiojo įpareigojimo pavadinimą | O12: Žemiau prašome nurodyti specialiojo įpareigojimo pavadinimą | Q12: Žemiau prašome nurodyti specialiojo įpareigojimo pavadinimą
C13: Rodiklis | D13: Iš viso įskaičiuota į įmonės finansines ataskaitas | E13: Tikrinimas Jei žemiau esančiame laukelyje nurodyta „Klaida“, tai reiškia, jog Jūsų užpildyti duomenys nesutampa su informacija, pateikta „Finansiniai duomenys“ lape | F13: Komercinė dalis, įskaičiuota į įmonės finansines ataskaitas | G13: Viešojo transporto organizavimo paslauga | I13: Rinkliavos už automobilių stovėjimą administravimo ir automobilių infrastruktūros plėtros ir priežiūros paslauga | K13: Eismo organizavimo ir eismo infrastruktūros plėtros bei priežiūros paslauga | M13: Darnaus judumo priemonių įgyvendinimo organizavimo ir susijusios infrastruktūros plėtros ir priežiūros paslauga | O13: Viešojo transporto infrastruktūros plėtros ir priežiūros organizavimo paslauga | Q13: Nepaskirstyta dalis, įtraukta į įmons finansines ataskaitas
G14: Specialiųjų įpareigojimų dalis | H14: Neįskaičiuojama į įmonės finansines ataskaitas | I14: Specialiųjų įpareigojimų dalis | J14: Neįskaičiuojama į įmonės finansines ataskaitas | K14: Specialiųjų įpareigojimų dalis | L14: Neįskaičiuojama į įmonės finansines ataskaitas | M14: Specialiųjų įpareigojimų dalis | N14: Neįskaičiuojama į įmonės finansines ataskaitas | O14: Specialiųjų įpareigojimų dalis | P14: Neįskaičiuojama į įmonės finansines ataskaitas | Q14: Specialiųjų įpareigojimų dalis | R14: Neįskaičiuojama į įmonės finansines ataskaitas
C15: Pardavimo pajamos | D15: =F15+G15+I15+K15+M15+O15+Q15 -> 41893.5 | E15: =IF(OR(D15-'Finansiniai duomenys'!C34<-0.1,D15-'Finansiniai duomenys'!C34>0.1),"Klaida","Gerai") -> Gerai | F15: 2245.7 | G15: 31782.1 | I15: 4203.9 | K15: 2513.1 | M15: 653.8 | O15: 494.9
C16: Pardavimo savikaina | D16: =F16+G16+I16+K16+M16+O16+Q16 -> 35991.3 | E16: =IF(OR(D16-'Finansiniai duomenys'!C35<-0.1,D16-'Finansiniai duomenys'!C35>0.1),"Klaida","Gerai") -> Gerai | F16: 671.6 | G16: 30914 | I16: 1541.4 | K16: 2166.8 | M16: 321.9 | O16: 375.6
C17: Bendrasis pelnas | D17: =F17+G17+I17+K17+M17+O17+Q17 -> 5902.2 | E17: =IF(OR(D17-'Finansiniai duomenys'!C36<-0.1,D17-'Finansiniai duomenys'!C36>0.1),"Klaida","Gerai") -> Gerai | F17: =F15-F16 -> 1574.1 | G17: =G15-G16 -> 868.1 | H17: =H15-H16 -> 0 | I17: =I15-I16 -> 2662.5 | J17: =J15-J16 -> 0 | K17: =K15-K16 -> 346.3 | L17: =L15-L16 -> 0 | M17: =M15-M16 -> 331.9 | ... R17: =R15-R16 -> 0
C18: Pardavimo sąnaudos | D18: =F18+G18+I18+K18+M18+O18+Q18 -> 856.3 | E18: =IF(OR(D18-'Finansiniai duomenys'!C37<-0.1,D18-'Finansiniai duomenys'!C37>0.1),"Klaida","Gerai") -> Gerai | F18: 84.1 | G18: 375.8 | I18: 292.6 | K18: 17.1 | M18: 65.3 | O18: 21.4
C19: Bendrosios ir administracinės sąnaudos | D19: =F19+G19+I19+K19+M19+O19+Q19 -> 3754.6 | E19: =IF(OR(D19-'Finansiniai duomenys'!C38<-0.1,D19-'Finansiniai duomenys'!C38>0.1),"Klaida","Gerai") -> Gerai | F19: 147.7 | G19: 2140.3 | I19: 842.7 | K19: 334 | M19: 201.8 | O19: 88.1
C20: Veiklos pelnas | D20: =F20+G20+I20+K20+M20+O20+Q20 -> 1291.3 | E20: =IF(OR(D20-'Finansiniai duomenys'!C39<-0.1,D20-'Finansiniai duomenys'!C39>0.1),"Klaida","Gerai") -> Gerai | F20: =F17-F18-F19 -> 1342.3 | G20: =G17-G18-G19 -> -1648 | H20: =H17-H18-H19 -> 0 | I20: =I17-I18-I19 -> 1527.2 | J20: =J17-J18-J19 -> 0 | K20: =K17-K18-K19 -> -4.8 | L20: =L17-L18-L19 -> 0 | M20: =M17-M18-M19 -> 64.8 | ... R20: =R17-R18-R19 -> 0
C21: Dotacijos, susijusios su pajamomis | D21: =F21+G21+I21+K21+M21+O21+Q21 -> 0 | E21: =IF(OR(D21-'Finansiniai duomenys'!C40<-0.1,D21-'Finansiniai duomenys'!C40>0.1),"Klaida","Gerai") -> Gerai
C22: Pelnas prieš apmokestinimą | D22: =F22+G22+I22+K22+M22+O22+Q22 -> 1301.1 | E22: =IF(OR(D22-'Finansiniai duomenys'!C46<-0.1,D22-'Finansiniai duomenys'!C46>0.1),"Klaida","Gerai") -> Gerai | F22: 1375.3 | G22: -1678.2 | I22: 1522.1 | K22: 8.1 | M22: 64.1 | O22: 9.7
C23: Grynasis pelnas | D23: =F23+G23+I23+K23+M23+O23+Q23 -> 1081.5 | E23: =IF(OR(D23-'Finansiniai duomenys'!C48<-0.1,D23-'Finansiniai duomenys'!C48>0.1),"Klaida","Gerai") -> Gerai | Q23: 1081.5
C24: Nusidėvėjimas ir amortizacija | D24: =F24+G24+I24+K24+M24+O24+Q24 -> 1008 | E24: =IF(OR(D24-'Finansiniai duomenys'!C110<-0.1,D24-'Finansiniai duomenys'!C110>0.1),"Klaida","Gerai") -> #VALUE! | F24: 214.6 | G24: 527.8 | H24: 0 | I24: 190 | J24: 0 | K24: 54.9 | L24: 0 | M24: 12 | N24: 0 | O24: 8.7 | P24: 0 | Q24: 0 | R24: 0
C28: ATASKAITINIS LAIKOTARPIS 2024 M. | G28: Žemiau prašome nurodyti specialiojo įpareigojimo pavadinimą | I28: Žemiau prašome nurodyti specialiojo įpareigojimo pavadinimą | K28: Žemiau prašome nurodyti specialiojo įpareigojimo pavadinimą | M28: Žemiau prašome nurodyti specialiojo įpareigojimo pavadinimą | O28: Žemiau prašome nurodyti specialiojo įpareigojimo pavadinimą | Q28: Žemiau prašome nurodyti specialiojo įpareigojimo pavadinimą
C29: Rodiklis | D29: Iš viso įskaičiuota į įmonės finansines ataskaitas | E29: Tikrinimas Jei žemiau esančiame laukelyje nurodyta „Klaida“, tai reiškia, jog Jūsų užpildyti duomenys nesutampa su informacija, pateikta „Finansiniai duomenys“ lape | F29: Komercinė dalis, įskaičiuota į įmonės finansines ataskaitas | G29: Viešojo transporto organizavimo paslauga | I29: Rinkliavos už automobilių stovėjimą administravimo ir automobilių infrastruktūros plėtros ir priežiūros paslauga | K29: Eismo organizavimo ir eismo infrastruktūros plėtros bei priežiūros paslauga | M29: Darnaus judumo priemonių įgyvendinimo organizavimo ir susijusios infrastruktūros plėtros ir priežiūros paslauga | O29: Viešojo transporto infrastruktūros plėtros ir priežiūros organizavimo paslauga | Q29: Nepaskirstyta dalis, įtraukta į įmons finansines ataskaitas
G30: Specialiųjų įpareigojimų dalis | H30: Neįskaičiuojama į įmonės finansines ataskaitas | I30: Specialiųjų įpareigojimų dalis | J30: Neįskaičiuojama į įmonės finansines ataskaitas | K30: Specialiųjų įpareigojimų dalis | L30: Neįskaičiuojama į įmonės finansines ataskaitas | M30: Specialiųjų įpareigojimų dalis | N30: Neįskaičiuojama į įmonės finansines ataskaitas | O30: Specialiųjų įpareigojimų dalis | P30: Neįskaičiuojama į įmonės finansines ataskaitas | Q30: Specialiųjų įpareigojimų dalis | R30: Neįskaičiuojama į įmonės finansines ataskaitas
C31: Pardavimo pajamos | D31: =F31+G31+I31+K31+M31+O31+Q31 -> 44747 | E31: =IF(OR(D31-'Finansiniai duomenys'!E34<-0.1,D31-'Finansiniai duomenys'!E34>0.1),"Klaida","Gerai") -> Gerai | F31: 2757.1 | G31: 34007.6 | I31: 4314.9 | K31: 2439 | M31: 650.5 | O31: 577.9
C32: Pardavimo savikaina | D32: =F32+G32+I32+K32+M32+O32+Q32 -> 38762.6 | E32: =IF(OR(D32-'Finansiniai duomenys'!E35<-0.1,D32-'Finansiniai duomenys'!E35>0.1),"Klaida","Gerai") -> Gerai | F32: 818.9 | G32: 33588.9 | I32: 1499.4 | K32: 2029.4 | M32: 401.7 | O32: 424.3
C33: Bendrasis pelnas | D33: =F33+G33+I33+K33+M33+O33+Q33 -> 5984.4 | E33: =IF(OR(D33-'Finansiniai duomenys'!E36<-0.1,D33-'Finansiniai duomenys'!E36>0.1),"Klaida","Gerai") -> Gerai | F33: =F31-F32 -> 1938.2 | G33: =G31-G32 -> 418.7 | H33: =H31-H32 -> 0 | I33: =I31-I32 -> 2815.5 | J33: =J31-J32 -> 0 | K33: =K31-K32 -> 409.6 | L33: =L31-L32 -> 0 | M33: =M31-M32 -> 248.8 | ... R33: =R31-R32 -> 0
C34: Pardavimo sąnaudos | D34: =F34+G34+I34+K34+M34+O34+Q34 -> 946.5 | E34: =IF(OR(D34-'Finansiniai duomenys'!E37<-0.1,D34-'Finansiniai duomenys'!E37>0.1),"Klaida","Gerai") -> Gerai | F34: 89.1 | G34: 435.5 | I34: 319.3 | K34: 21.5 | M34: 54.6 | O34: 26.5
C35: Bendrosios ir administracinės sąnaudos | D35: =F35+G35+I35+K35+M35+O35+Q35 -> 4229.1 | E35: =IF(OR(D35-'Finansiniai duomenys'!E38<-0.1,D35-'Finansiniai duomenys'!E38>0.1),"Klaida","Gerai") -> Gerai | F35: 149.8 | G35: 2436.3 | I35: 990.7 | K35: 370.9 | M35: 183.6 | O35: 97.8
C36: Veiklos pelnas | D36: =F36+G36+I36+K36+M36+O36+Q36 -> 808.8 | E36: =IF(OR(D36-'Finansiniai duomenys'!E39<-0.1,D36-'Finansiniai duomenys'!E39>0.1),"Klaida","Gerai") -> Gerai | F36: =F33-F34-F35 -> 1699.3 | G36: =G33-G34-G35 -> -2453.1 | H36: =H33-H34-H35 -> 0 | I36: =I33-I34-I35 -> 1505.5 | J36: =J33-J34-J35 -> 0 | K36: =K33-K34-K35 -> 17.2 | L36: =L33-L34-L35 -> 0 | M36: =M33-M34-M35 -> 10.6 | ... R36: =R33-R34-R35 -> 0
C37: Dotacijos, susijusios su pajamomis | D37: =F37+G37+I37+K37+M37+O37+Q37 -> 0 | E37: =IF(OR(D37-'Finansiniai duomenys'!E39<-0.1,D37-'Finansiniai duomenys'!E39>0.1),"Klaida","Gerai") -> Klaida
C38: Pelnas prieš apmokestinimą | D38: =F38+G38+I38+K38+M38+O38+Q38 -> 830.1 | E38: =IF(OR(D38-'Finansiniai duomenys'!E46<-0.1,D38-'Finansiniai duomenys'!E46>0.1),"Klaida","Gerai") -> Gerai | F38: 1794.1 | G38: -2486 | I38: 1476.2 | K38: 9 | M38: 9.2 | O38: 27.6
C39: Grynasis pelnas | D39: =F39+G39+I39+K39+M39+O39+Q39 -> 674.7 | E39: =IF(OR(D39-'Finansiniai duomenys'!E48<-0.1,D39-'Finansiniai duomenys'!E48>0.1),"Klaida","Gerai") -> Gerai | Q39: 674.7
C40: Nusidėvėjimas ir amortizacija | D40: =F40+G40+I40+K40+M40+O40+Q40 -> 1402 | E40: =IF(OR(D40-'Finansiniai duomenys'!E110<-0.1,D40-'Finansiniai duomenys'!E110>0.1),"Klaida","Gerai") -> Gerai | F40: 236.4 | G40: 782.2 | I40: 254.8 | K40: 97 | M40: 16 | O40: 15.6
C44: PRAĖJĘS ATASKAITINIS LAIKOTARPIS 2023 M. | G44: Žemiau prašome nurodyti specialiojo įpareigojimo pavadinimą | I44: Žemiau prašome nurodyti specialiojo įpareigojimo pavadinimą | K44: Žemiau prašome nurodyti specialiojo įpareigojimo pavadinimą | M44: Žemiau prašome nurodyti specialiojo įpareigojimo pavadinimą | O44: Žemiau prašome nurodyti specialiojo įpareigojimo pavadinimą | Q44: Žemiau prašome nurodyti specialiojo įpareigojimo pavadinimą
C45: Rodiklis | D45: Iš viso įskaičiuota į įmonės finansines ataskaitas | E45: Tikrinimas Jei žemiau esančiame laukelyje nurodyta „Klaida“, tai reiškia, jog Jūsų užpildyti duomenys nesutampa su informacija, pateikta „Finansiniai duomenys“ lape | F45: Komercinė dalis, įskaičiuota į įmonės finansines ataskaitas | G45: Viešojo transporto organizavimo paslauga | I45: Rinkliavos už automobilių stovėjimą administravimo ir automobilių infrastruktūros plėtros ir priežiūros paslauga | K45: Eismo organizavimo ir eismo infrastruktūros plėtros bei priežiūros paslauga | M45: Darnaus judumo priemonių įgyvendinimo organizavimo ir susijusios infrastruktūros plėtros ir priežiūros paslauga | O45: Viešojo transporto infrastruktūros plėtros ir priežiūros organizavimo paslauga | Q45: Nepaskirstyta dalis, įtraukta į įmons finansines ataskaitas
G46: Įskaičiuojama į įmonės finansines ataskaitas | H46: Neįskaičiuojama į įmonės finansines ataskaitas | I46: Įskaičiuojama į įmonės finansines ataskaitas | J46: Neįskaičiuojama į įmonės finansines ataskaitas | K46: Įskaičiuojama į įmonės finansines ataskaitas | L46: Neįskaičiuojama į įmonės finansines ataskaitas | M46: Įskaičiuojama į įmonės finansines ataskaitas | N46: Neįskaičiuojama į įmonės finansines ataskaitas | O46: Įskaičiuojama į įmonės finansines ataskaitas | P46: Neįskaičiuojama į įmonės finansines ataskaitas | Q46: Įskaičiuojama į įmonės finansines ataskaitas | R46: Neįskaičiuojama į įmonės finansines ataskaitas
C47: Turto iš viso | D47: =F47+G47+I47+K47+M47+O47+Q47 -> 29349.9 | E47: =IF(OR(D47-'Finansiniai duomenys'!C72<-0.1,D47-'Finansiniai duomenys'!C72>0.1),"Klaida","Gerai") -> Gerai | F47: 7812.8 | G47: 14847.3 | I47: 1806.9 | K47: 511.2 | M47: 293.6 | O47: 170.7 | Q47: 3907.4
C48: Nuosavas kapitalas | D48: =F48+G48+I48+K48+M48+O48+Q48 -> 6730.2 | E48: =IF(OR(D48-'Finansiniai duomenys'!C83<-0.1,D48-'Finansiniai duomenys'!C83>0.1),"Klaida","Gerai") -> Gerai | F48: 5693.9 | G48: -1019.4 | I48: 1725.2 | K48: 0 | M48: 0 | O48: 0 | Q48: 330.5
C49: Dotacijos, subsidijos | D49: =F49+G49+I49+K49+M49+O49+Q49 -> 5815.7 | E49: =IF(OR(D49-'Finansiniai duomenys'!C85<-0.1,D49-'Finansiniai duomenys'!C85>0.1),"Klaida","Gerai") -> Gerai | F49: 1905.3 | G49: 3872.6 | I49: 0 | K49: 37.8 | M49: 0 | O49: 0 | Q49: 0
...

Sheet Dukterinės bendrovės
D2: Viešinamos informacijos apie savivaldybių valdomų įmonių ir jų dukterinių bendrovių veiklą ir rezultatus formos | J2: 1 | K2: UAB „Kermošius" | L2: 304148387 | M2: Uždaroji akcinė bendrovė (UAB) | N2: UAB „Elektrėnų komunalinis ūkis“ | O2: UAB „Elektrėnų komunalinis ūkis“
D3: 4 priedas | K3: UAB „GO Energy LT“ | L3: 303042623 | M3: Uždaroji akcinė bendrovė (UAB) | N3: AB „Kauno energija“ | O3: AB „Kauno energija“
B4: Viešinamos informacijos apie savivaldybių valdomų įmonių dukterinių bendrovių veiklą ir rezultatus forma | K4: UAB „Klaipėdos transportas“ | L4: 304923194 | M4: Uždaroji akcinė bendrovė (UAB) | N4: UAB „Klaipėdos autobusų parkas“ | O4: UAB „Klaipėdos autobusų parkas“
B6: Įmonės pavadinimas
B7: Teisinė forma | C7: =IFERROR(VLOOKUP(C6,$K$2:$M$5,3,FALSE),"")
B8: Įmonės kodas | C8: =IFERROR(VLOOKUP(C6,$K$2:$L$5,2,FALSE),"")
B9: Įmonės įsteigimo data
B10: Įmonės direktorius (generalinis direktorius) | C10: Loreta Levulytė-Staškevičienė
B11: Įmonės vyr. finansininkas (vyr. buhalteris) | C11: Indrė Putnienė
C13: Lentelės užpildymo dieną
B14: Akcininkų sąrašas | C14: 5 didžiausi akcininkai | E14: Valdoma akcijų dalis
B15: Akcininkas Nr.1
B16: Akcininkas Nr.2
B17: Akcininkas Nr.3
B18: Akcininkas Nr.4
B19: Akcininkas Nr.5
B20: Kiti akcininkai | C20: Kitų akcininkų valdoma dalis | E20: =100%-SUM(E15:E19) -> 1
B22: Patronuojančioji įmonė | C22: =IFERROR(VLOOKUP(C6,$K$2:$O$5,4,FALSE),"")
C24: LENTELĖSE DUOMENYS PATEIKIAMI TŪKSTANČIAIS EURŲ (JEI NENURODYTA KITAIP), VIENO SKAIČIAUS PO KABLELIO TIKSLUMU
C26: Lentelėse turi būti pateikiami audituoti metiniai duomenys
B27: Pelno (nuostolių) ataskaita | C27: Praėjęs ataskaitinis laikotarpis 2023 m. | E27: Ataskaitinis laikotarpis 2024 m.
B28: Pardavimo pajamos
B29: Pardavimo savikaina
B30: Bendrasis pelnas (nuostoliai) | C30: =+C28-C29 -> 0 | E30: =+E28-E29 -> 0
B31: Pardavimo sąnaudos
B32: Bendrosios ir administracinės sąnaudos
B33: Veiklos pelnas (nuostoliai) | C33: =+C30-C31-C32 -> 0 | E33: =+E30-E31-E32 -> 0
B34: Kitos veiklos rezultatai
B35: Finansinė ir investicinė veikla | C35: =C36-C37 -> 0 | E35: =E36-E37 -> 0
B36: Pajamos
B37: Sąnaudos
B38: Pelnas (nuostoliai) prieš apmokestinimą | C38: =+C33+C34+C35 -> 0 | E38: =+E33+E34+E35 -> 0
B39: Pelno mokestis
B40: Grynasis pelnas (nuostoliai) | C40: =C38-C39 -> 0 | E40: =E38-E39 -> 0
C42: LENTELĖSE DUOMENYS PATEIKIAMI TŪKSTANČIAIS EURŲ (JEI NENURODYTA KITAIP), VIENO SKAIČIAUS PO KABLELIO TIKSLUMU
B43: Balansas | C43: Praėjęs ataskaitinis laikotarpis 2023 m. | E43: Ataskaitinis laikotarpis 2024 m.
B44: Nematerialusis turtas
B45: Materialusis turtas
B46: Finansinis turtas
B47: Kitas ilgalaikis turtas
...
